BEGIN:VCALENDAR
VERSION:2.0
PRODID:-//Wheels In Motion - ECPv6.15.20//NONSGML v1.0//EN
CALSCALE:GREGORIAN
METHOD:PUBLISH
X-WR-CALNAME:Wheels In Motion
X-ORIGINAL-URL:https://wheelsinmotion.org
X-WR-CALDESC:Events for Wheels In Motion
REFRESH-INTERVAL;VALUE=DURATION:PT1H
X-Robots-Tag:noindex
X-PUBLISHED-TTL:PT1H
BEGIN:VTIMEZONE
TZID:UTC
BEGIN:STANDARD
TZOFFSETFROM:+0000
TZOFFSETTO:+0000
TZNAME:UTC
DTSTART:20230101T000000
END:STANDARD
END:VTIMEZONE
BEGIN:VEVENT
DTSTART;TZID=UTC:20260327T160000
DTEND;TZID=UTC:20260327T190000
DTSTAMP:20260424T175247
CREATED:20260118T210121Z
LAST-MODIFIED:20260310T031901Z
UID:10000305-1774627200-1774638000@wheelsinmotion.org
SUMMARY:Adaptive Recreation Experience !
DESCRIPTION:Adaptive Recreation Experience –\nAdaptive Recreation Experience\nFriday\, March 27th\, 2026 | 4–7 PMUWM Sports Complex – 867 South Blvd E\, Pontiac\, MI 48341 \nJoin us for a Free\, all-abilities community event designed to showcase the fun\, freedom\, and possibilities of adaptive recreation! Whether you’re exploring something new or coming back to a favorite activity\, this afternoon offers hands-on opportunities like archery\, curling\, golf\, wheelchair basketball\, and more. \nConnect with local and state organizations\, meet others in the disability community\, and learn about year-round programs that support active\, engaged living. \nFood will be available for purchase.All ages and abilities are welcome. \n      \nQuestions? Email OCPRecreation@oakgov.com or text/call 248-221-8040This is a Free event! Pre-Register Here!                                                                      \nPartners: Oakland County Parks\, Wheels in Motion\, DNEM\, Reimagine Life Foundation\, Reimagine RecreationSponsored by: Strive \nAdaptive-Rec-Experience-Final-2
URL:https://wheelsinmotion.org/event/adaptive-recreation-experience/
LOCATION:UWM Sports Complex\, 867 S Blvd E\, Pontiac\, MI\, 48341
CATEGORIES:Adaptive Archery,Adaptive biking,Adaptive Mountain Biking,Barrier Free Boating,Bowfishing,Community,Disability Dirt Days,Disability Dune Days,DiversAbility Day,Dune Days!,Expo!,Handcycling,Off-Road Hand cycling,Offroad ATV/SXS,Veterans
ATTACH;FMTTYPE=application/pdf:https://wheelsinmotion.org/wp-content/uploads/2026/01/Adaptive-Rec-Experience-Final-2-1.pdf
ORGANIZER;CN="Wheels in Motion":MAILTO:info@wheelsinmotionnonprofit.com
END:VEVENT
BEGIN:VEVENT
DTSTART;TZID=UTC:20250827T110000
DTEND;TZID=UTC:20250827T140000
DTSTAMP:20260424T175247
CREATED:20250529T183101Z
LAST-MODIFIED:20250529T183101Z
UID:10000248-1756292400-1756303200@wheelsinmotion.org
SUMMARY:Veteran Fishing Day/Barrier Free Boating - Kensington MetroPark
DESCRIPTION:Veterans Day on the Lake – Accessible Boating & Fishing\nWednesday\, August 27 | 11:00 AM – 2:00 PM\nKent Lake\, Kensington Metropark \nWheels in Motion is partnering with the Detroit VA Medical Center Recreation Therapy team\, U-MAISE\, and the Michigan DNR for a special day on the water—designed just for our area Veterans. We’ll be out on Kent Lake at Kensington Metropark offering barrier-free boating and accessible fishing in a peaceful\, welcoming setting. \nThis event is all about connection\, fresh air\, and the kind of freedom that comes with a rod in hand or a boat ride on the lake. \nIf you’re a local Veteran and would like to join us\, please reach out to Christine or Billy at 810-215-9799. We’d love to have you with us.
URL:https://wheelsinmotion.org/event/veteran-fishing-day-barrier-free-boating-kensington-metropark/
LOCATION:Kent Lake\, Kensington Metropark – West Boat Launch\, 1300 Highridge Dr.\, Brighton\, MI\, 48114\, United States
CATEGORIES:Adaptive Fishing,Barrier Free Boating,UMaise,Veterans
ATTACH;FMTTYPE=image/jpeg:https://wheelsinmotion.org/wp-content/uploads/2025/05/Kent-Lake.jpg
ORGANIZER;CN="Wheels in Motion":MAILTO:info@wheelsinmotionnonprofit.com
END:VEVENT
BEGIN:VEVENT
DTSTART;TZID=UTC:20250517T110000
DTEND;TZID=UTC:20250517T200000
DTSTAMP:20260424T175247
CREATED:20250321T144604Z
LAST-MODIFIED:20250321T144604Z
UID:10000245-1747479600-1747512000@wheelsinmotion.org
SUMMARY:Thank You for Your Service: Veterans Ride Free on Armed Forces Day!
DESCRIPTION:Thank You for Your Service: Veterans Ride Free on Armed Forces Day📅 Saturday\, May 17\, 2025🕚 11:00 AM – 8:00 PM📍 Holly Oaks Off-Road Vehicle (ORV) Park – Holly\, Michigan \nWe’re proud to honor those who’ve served with a day dedicated to our veterans—on Armed Forces Day\, no less. \nIf you’re a veteran\, come out and enjoy free admission to the park. Bring your side-by-side\, Jeep\, or off-road vehicle and ride all day long. Whether you’re looking to tear it up on the trails or take a laid-back loop through the park\, this day is for you. \nNo registration required—just show up with your military ID or proof of service\, and we’ll take care of the rest. \nIt’s a simple way to say thank you—for your courage\, your service\, and your sacrifice. \n💙 Presented by Wheels in Motion in partnership with Oakland County Parks.
URL:https://wheelsinmotion.org/event/thank-you-for-your-service-veterans-ride-free-on-armed-forces-day/
LOCATION:Holly Oaks ORV Park\, 14551 Shields Road\, Holly\, MI\, 48442\, United States
CATEGORIES:Detroit 4Fest,Disability Dirt Days,Offroad ATV/SXS,Veterans,Veterans Dirt Day
ATTACH;FMTTYPE=application/pdf:https://wheelsinmotion.org/wp-content/uploads/2025/03/Thank-you-for-your-Service-Veterans-Ride-Free-Armed-Forces-Day.pdf
ORGANIZER;CN="Wheels in Motion":MAILTO:info@wheelsinmotionnonprofit.com
END:VEVENT
BEGIN:VEVENT
DTSTART;TZID=UTC:20250516T110000
DTEND;TZID=UTC:20250516T153000
DTSTAMP:20260424T175247
CREATED:20241105T182406Z
LAST-MODIFIED:20250321T152209Z
UID:10000220-1747393200-1747409400@wheelsinmotion.org
SUMMARY:Veterans Dirt Day! Off-Road Rides for Our Heroes.
DESCRIPTION:Veteran Dirt Day – Off-Road Rides for Our Heroes📅 Friday\, May 16\, 2025🕚 11:00 AM – 3:30 PM📍 Holly Oaks ORV Park – 14551 Shields Road\, Holly\, MI 48442 \nCome celebrate Armed Forces Day a little early with us at Veteran Dirt Day—a special event just for veterans. \nHop in with one of our experienced off-road volunteers and enjoy a thrilling ride through Holly Oaks ORV Park. Each veteran may bring one guest (ages 10+)\, and rides are about an hour long. \n💥 Registration required – you’ll get your ride time slot before the event.💥 Waivers required for all participants.💥 Veteran-focused vendors will be on-site—explore\, connect\, and enjoy the day. \n📲 Questions? Text or call 248-221-8040🔗 Register here: https://bit.ly/4jcABQv \n💙 Brought to you by Oakland County Parks\, Detroit 4Fest\, Holly Oaks\, ORV Park\, and Wheels in Motion.
URL:https://wheelsinmotion.org/event/veterans-expo-dirt-day/
LOCATION:Holly Oaks ORV Park\, 14551 Shields Road\, Holly\, MI\, 48442\, United States
CATEGORIES:Detroit 4Fest,Disability Dirt Days,Offroad ATV/SXS,Veterans,Veterans Dirt Day
ATTACH;FMTTYPE=application/pdf:https://wheelsinmotion.org/wp-content/uploads/2024/11/Veteran-Dirt-Day-final-2.pdf
ORGANIZER;CN="Wheels in Motion":MAILTO:info@wheelsinmotionnonprofit.com
END:VEVENT
BEGIN:VEVENT
DTSTART;TZID=UTC:20250510T170000
DTEND;TZID=UTC:20250510T170000
DTSTAMP:20260424T175247
CREATED:20250319T035952Z
LAST-MODIFIED:20250407T162333Z
UID:10000244-1746896400-1746896400@wheelsinmotion.org
SUMMARY:Bows for the Brave 2025 - Veterans Bow Fishing Tournament
DESCRIPTION:Bows for the Brave: Veterans Bow Fishing Tournament 2025 🎯🎣🇺🇸\nJoin us for an unforgettable night on the water at Bows for the Brave\, a FREE\, Veterans Bow Fishing Tournament for veterans and people with disabilities\, hosted by Michigan Operation Freedom Outdoors and Wheels in Motion.org. \n📅 Event Details:\n📍 Location: Kent Lake\, Kensington Metropark – West Boat Launch📍 Address: 1300 Highridge Dr\, Brighton\, MI 48114📅 Date: Saturday\, May 10th\, 2025🕔 Time: 5:00 PM – Midnight \n🛶 Schedule of Events:\n🍕 5:00 PM – Pizza and Gathering🚤 7:00 PM – Boat Launch⚖️ 12:00 AM – Weigh-in \n💰 Prize: $500 for the boat that catches the most fish by weight! \n🔗 Registration:\n✔️ Participants Register Here: Click Here✔️ Captains Register Here: Click Here \n$50 Gift Card for the First 15 Boats to Sign Up for the Event (to be received at the Event)\n👉 Follow our event partners:🔗 Michigan Operation Freedom Outdoors🔗 Wheels in Motion.org \n📞 Questions?\nCall Tom Jones at (734) 612-6677. \nThis is more than just a tournament—it’s a celebration of camaraderie\, competition\, and the great outdoors. Come make memories\, reel in some fish\, and show your skills under the stars! 🌙🎯
URL:https://wheelsinmotion.org/event/bows-for-the-brave-2025-veterans-bow-fishing-tournament/
LOCATION:Kent Lake\, Kensington Metropark – West Boat Launch\, 1300 Highridge Dr.\, Brighton\, MI\, 48114\, United States
CATEGORIES:Barrier Free Boating,Bowfishing,Veterans
ATTACH;FMTTYPE=image/jpeg:https://wheelsinmotion.org/wp-content/uploads/2024/06/Bowfishing.jpg
ORGANIZER;CN="Wheels in Motion":MAILTO:info@wheelsinmotionnonprofit.com
END:VEVENT
BEGIN:VEVENT
DTSTART;TZID=UTC:20250328T150000
DTEND;TZID=UTC:20250328T190000
DTSTAMP:20260424T175247
CREATED:20241105T181613Z
LAST-MODIFIED:20250324T222326Z
UID:10000219-1743174000-1743188400@wheelsinmotion.org
SUMMARY:Adaptive Recreation Experience !
DESCRIPTION:Adaptive Recreation Experience –\nAdaptive Recreation Experience\nFriday\, March 28\, 2025 | 4–7 PMUWM Sports Complex – 867 South Blvd E\, Pontiac\, MI 48341 \nJoin us for a free\, all-abilities community event designed to showcase the fun\, freedom\, and possibilities of adaptive recreation! Whether you’re exploring something new or returning to a favorite activity\, this evening offers hands-on opportunities like archery\, curling\, golf\, wheelchair basketball\, and more. \nConnect with local and state organizations\, meet others in the disability community\, and learn about year-round programs that support active\, engaged living. \nFood will be available for purchase.All ages and abilities are welcome. \n📲 Questions? Email OCPRecreation@oakgov.com or text/call 248-221-8040📝 Pre-registration encouraged – scan the QR code on the flyer                                                                                 Or Register here – bit.ly/3F3a2O9 ! \nPartners: Oakland County Parks\, Wheels in Motion\, DNEM\, Reimagine Life Foundation\, Reimagine RecreationSponsored by: Strive \nAdaptive Rec Experience – Final 2
URL:https://wheelsinmotion.org/event/adaptive-recreation-experience-expo/
LOCATION:UWM Sports Complex\, 867 S Blvd E\, Pontiac\, MI\, 48341
CATEGORIES:Adaptive Archery,Adaptive biking,Adaptive Mountain Biking,Barrier Free Boating,Bowfishing,Disability Dirt Days,Disability Dune Days,DiversAbility Day,Dune Days!,Expo!,Handcycling,Off-Road Hand cycling,Offroad ATV/SXS,Veterans
ATTACH;FMTTYPE=application/pdf:https://wheelsinmotion.org/wp-content/uploads/2024/11/Adaptive-Rec-Experience-Final-2.pdf
ORGANIZER;CN="Oakland County Parks":MAILTO:doreys@oakgov.com
END:VEVENT
BEGIN:VEVENT
DTSTART;TZID=UTC:20250227T090000
DTEND;TZID=UTC:20250227T120000
DTSTAMP:20260424T175247
CREATED:20241206T182200Z
LAST-MODIFIED:20250219T214244Z
UID:10000226-1740646800-1740657600@wheelsinmotion.org
SUMMARY:Veterans Resource Fair
DESCRIPTION:Veterans Resource Fair\nJoin us at the Veterans Resource Fair\, hosted by Oakland County Veteran Services! This event is a one-stop resource hub for veterans and their families\, offering free food boxes\, assistance with veteran benefits\, job resources\, housing counseling\, recreational opportunities\, health services\, and much more. \nWheels in Motion  will have a table at the event to share information about the Adaptive Recreation opportunities we provide\, helping veterans of all abilities stay active\, connect with the community\, and enjoy the outdoors. \nDate: February 27th\, 2025\nTime: 9am – Noon\nLocation: Novi Civic Center \nDiscover the support and services available to you as a veteran and connect with organizations dedicated to your well-being. Be sure to stop by and say hello! \nWe look forward to seeing you there! \nVetResourceFair Flyer -v1-CD \n 
URL:https://wheelsinmotion.org/event/2651/
LOCATION:Novi Civic Center\, 45175 W 10 Mile Road\, Novi\, MI\, 48375
CATEGORIES:Veterans,Veterans Resource Rally
ATTACH;FMTTYPE=application/pdf:https://wheelsinmotion.org/wp-content/uploads/2024/12/VetResourceFair-Flyer-v1-CD-1.pdf
ORGANIZER;CN="Oakland County Veterans Services":MAILTO:veterans-services@oakgov.com
END:VEVENT
BEGIN:VEVENT
DTSTART;TZID=UTC:20250123T090000
DTEND;TZID=UTC:20250123T120000
DTSTAMP:20260424T175247
CREATED:20241206T182954Z
LAST-MODIFIED:20241206T183141Z
UID:10000227-1737622800-1737633600@wheelsinmotion.org
SUMMARY:Veterans Resource Fair
DESCRIPTION:Veterans Resource Fair\nJoin us at the Veterans Resource Fair\, hosted by Oakland County Veteran Services! This event is a one-stop resource hub for veterans and their families\, offering free food boxes\, assistance with veteran benefits\, job resources\, housing counseling\, recreational opportunities\, health services\, and much more. \nWheels in Motion.org will have a table at the event to share information about the Adaptive Recreation opportunities we provide\, helping veterans of all abilities stay active\, connect with the community\, and enjoy the outdoors. \nDate: January 23rd\nTime: 9am – Noon\nLocation: Lyon Oaks Golf Course\, Wixom MI. \nDiscover the support and services available to you as a veteran and connect with organizations dedicated to your well-being. Be sure to stop by and say hello! \nWe look forward to seeing you there! \nVS-0123-25 VetResourceFair-v1 \n 
URL:https://wheelsinmotion.org/event/veterans-resource-fair/
LOCATION:Lyon Oaks Golf Course\, 52251 Pontiac Trail\, Wixom\, MI\, 48393
CATEGORIES:Veterans,Veterans Resource Rally
ATTACH;FMTTYPE=application/pdf:https://wheelsinmotion.org/wp-content/uploads/2024/12/VS-0123-25-VetResourceFair-v1-1.pdf
ORGANIZER;CN="Oakland County Veterans Services":MAILTO:veterans-services@oakgov.com
END:VEVENT
BEGIN:VEVENT
DTSTART;TZID=UTC:20240914T110000
DTEND;TZID=UTC:20240914T160000
DTSTAMP:20260424T175247
CREATED:20240826T181629Z
LAST-MODIFIED:20240913T173928Z
UID:10000214-1726311600-1726329600@wheelsinmotion.org
SUMMARY:Armed Forces Resource Rally
DESCRIPTION:Genesee County Department of Veterans Services Resource Rally – 2024\nAlthough we will not be able to be present this year\, please join the community for the Genesee County Department of Veterans Services’ 2024 Armed Forces Resource Rally\, a crucial event for our veterans\, active military\, and their families. This event\, taking place on Saturday\, September 14\, from 11 AM to 4 PM at Riverview Park in Flushing\, MI\, is an opportunity to explore resources\, enjoy music\, participate in kid-friendly activities\, and receive free haircuts. \nRegistration is required. \n\nMusic\nKid Activities\nScratch BBQ\nLive Remote with 103.9\nResource For Veterans\, Active Military & Their Families\nFootprints Of Michigan\nRodeo Drive Performing courtesy of FIM\nMVAA onsite Printing DD214s\nFree Haircuts For Veterans! + So Much More!\n\nthis event is sponsored in whole or in part by MVAA \n\nAre you a disabled veteran in Genesee County who needs a wheelchair accessible vehicle or accessible modifications in your home? Representatives from The Creative Mobility Group will be at the Resource Rally to provide information on VA funding programs\, nonprofit organizations\, and private foundations that may be able to provide financial assistance for this equipment. Take advantage of this opportunity to connect with vital support services and enjoy a day of fun! \nFor more information and to register\, please visit the event website. \nAbout Genesee County Department of Veterans Services\nThe Genesee County Department of Veterans Services provides comprehensive support to veterans and their families\, focusing on ensuring they receive the benefits and services they are entitled to. They assist with claims for VA benefits and healthcare enrollment and provide information on local resources for housing\, education\, and employment. The department is dedicated to enhancing veterans’ quality of life by connecting them with essential services and advocating for them. \nFor more information\, you can visit their official website \nOr email Lauren Thompson: lthompson@geneseecountymi.gov
URL:https://wheelsinmotion.org/event/armed-forces-resource-rally/
LOCATION:Riverview Park\, 230 South Cherry Street\, Flushing\, MI\, 48433\, United States
CATEGORIES:Veterans,Veterans Resource Rally
ATTACH;FMTTYPE=image/jpeg:https://wheelsinmotion.org/wp-content/uploads/2024/08/Genesee-County-Department-of-Veteran-Services-Resource-Rally-2024.jpg
ORGANIZER;CN="Genesee County Department of Veteran Services":MAILTO:lthompson@geneseecountymi.gov
END:VEVENT
END:VCALENDAR