BEGIN:VCALENDAR
VERSION:2.0
PRODID:-//Wheels In Motion - ECPv6.15.20//NONSGML v1.0//EN
CALSCALE:GREGORIAN
METHOD:PUBLISH
X-WR-CALNAME:Wheels In Motion
X-ORIGINAL-URL:https://wheelsinmotion.org
X-WR-CALDESC:Events for Wheels In Motion
REFRESH-INTERVAL;VALUE=DURATION:PT1H
X-Robots-Tag:noindex
X-PUBLISHED-TTL:PT1H
BEGIN:VTIMEZONE
TZID:UTC
BEGIN:STANDARD
TZOFFSETFROM:+0000
TZOFFSETTO:+0000
TZNAME:UTC
DTSTART:20230101T000000
END:STANDARD
END:VTIMEZONE
BEGIN:VEVENT
DTSTART;TZID=UTC:20260401T120000
DTEND;TZID=UTC:20260401T130000
DTSTAMP:20260424T132145
CREATED:20240716T030353Z
LAST-MODIFIED:20260109T194039Z
UID:10000163-1775044800-1775048400@wheelsinmotion.org
SUMMARY:RIM SCI Roundtable Support Group
DESCRIPTION:The Rehabilitation Institute of Michigan\, RIM\, has their SCI Roundtable support group meetings\nevery 1st & 3rd Wednesday of each month (unless canceled).\nThe meetings are held at RIM: 261 Mack Ave.\, Detroit 48201 from Noon-1pm.\nLunch is usually served.\nMyreo Dixon facilitates the group. If you any have questions\, call Myreo at  (313) 748-3548 or email him at myreo@rimfoundation.org.
URL:https://wheelsinmotion.org/event/rim-sci-roundtable-support-group/2026-04-01/
LOCATION:RIM\, 261 Mack Ave.\, Detroit\, MI\, 48201
CATEGORIES:RIM,Support Group
ATTACH;FMTTYPE=image/jpeg:https://wheelsinmotion.org/wp-content/uploads/2024/07/IMG_3847-e1721098542867.jpg
ORGANIZER;CN="Wheels in Motion":MAILTO:info@wheelsinmotionnonprofit.com
END:VEVENT
BEGIN:VEVENT
DTSTART;TZID=UTC:20260304T120000
DTEND;TZID=UTC:20260304T130000
DTSTAMP:20260424T132145
CREATED:20240716T030353Z
LAST-MODIFIED:20260109T194039Z
UID:10000162-1772625600-1772629200@wheelsinmotion.org
SUMMARY:RIM SCI Roundtable Support Group
DESCRIPTION:The Rehabilitation Institute of Michigan\, RIM\, has their SCI Roundtable support group meetings\nevery 1st & 3rd Wednesday of each month (unless canceled).\nThe meetings are held at RIM: 261 Mack Ave.\, Detroit 48201 from Noon-1pm.\nLunch is usually served.\nMyreo Dixon facilitates the group. If you any have questions\, call Myreo at  (313) 748-3548 or email him at myreo@rimfoundation.org.
URL:https://wheelsinmotion.org/event/rim-sci-roundtable-support-group/2026-03-04/
LOCATION:RIM\, 261 Mack Ave.\, Detroit\, MI\, 48201
CATEGORIES:RIM,Support Group
ATTACH;FMTTYPE=image/jpeg:https://wheelsinmotion.org/wp-content/uploads/2024/07/IMG_3847-e1721098542867.jpg
ORGANIZER;CN="Wheels in Motion":MAILTO:info@wheelsinmotionnonprofit.com
END:VEVENT
BEGIN:VEVENT
DTSTART;TZID=UTC:20260204T120000
DTEND;TZID=UTC:20260204T130000
DTSTAMP:20260424T132145
CREATED:20240716T030353Z
LAST-MODIFIED:20260109T194039Z
UID:10000161-1770206400-1770210000@wheelsinmotion.org
SUMMARY:RIM SCI Roundtable Support Group
DESCRIPTION:The Rehabilitation Institute of Michigan\, RIM\, has their SCI Roundtable support group meetings\nevery 1st & 3rd Wednesday of each month (unless canceled).\nThe meetings are held at RIM: 261 Mack Ave.\, Detroit 48201 from Noon-1pm.\nLunch is usually served.\nMyreo Dixon facilitates the group. If you any have questions\, call Myreo at  (313) 748-3548 or email him at myreo@rimfoundation.org.
URL:https://wheelsinmotion.org/event/rim-sci-roundtable-support-group/2026-02-04/
LOCATION:RIM\, 261 Mack Ave.\, Detroit\, MI\, 48201
CATEGORIES:RIM,Support Group
ATTACH;FMTTYPE=image/jpeg:https://wheelsinmotion.org/wp-content/uploads/2024/07/IMG_3847-e1721098542867.jpg
ORGANIZER;CN="Wheels in Motion":MAILTO:info@wheelsinmotionnonprofit.com
END:VEVENT
BEGIN:VEVENT
DTSTART;TZID=UTC:20260107T120000
DTEND;TZID=UTC:20260107T130000
DTSTAMP:20260424T132145
CREATED:20240716T030353Z
LAST-MODIFIED:20260109T194039Z
UID:10000160-1767787200-1767790800@wheelsinmotion.org
SUMMARY:RIM SCI Roundtable Support Group
DESCRIPTION:The Rehabilitation Institute of Michigan\, RIM\, has their SCI Roundtable support group meetings\nevery 1st & 3rd Wednesday of each month (unless canceled).\nThe meetings are held at RIM: 261 Mack Ave.\, Detroit 48201 from Noon-1pm.\nLunch is usually served.\nMyreo Dixon facilitates the group. If you any have questions\, call Myreo at  (313) 748-3548 or email him at myreo@rimfoundation.org.
URL:https://wheelsinmotion.org/event/rim-sci-roundtable-support-group/2026-01-07/
LOCATION:RIM\, 261 Mack Ave.\, Detroit\, MI\, 48201
CATEGORIES:RIM,Support Group
ATTACH;FMTTYPE=image/jpeg:https://wheelsinmotion.org/wp-content/uploads/2024/07/IMG_3847-e1721098542867.jpg
ORGANIZER;CN="Wheels in Motion":MAILTO:info@wheelsinmotionnonprofit.com
END:VEVENT
BEGIN:VEVENT
DTSTART;TZID=UTC:20251203T120000
DTEND;TZID=UTC:20251203T130000
DTSTAMP:20260424T132145
CREATED:20240716T030353Z
LAST-MODIFIED:20260109T194039Z
UID:10000159-1764763200-1764766800@wheelsinmotion.org
SUMMARY:RIM SCI Roundtable Support Group
DESCRIPTION:The Rehabilitation Institute of Michigan\, RIM\, has their SCI Roundtable support group meetings\nevery 1st & 3rd Wednesday of each month (unless canceled).\nThe meetings are held at RIM: 261 Mack Ave.\, Detroit 48201 from Noon-1pm.\nLunch is usually served.\nMyreo Dixon facilitates the group. If you any have questions\, call Myreo at  (313) 748-3548 or email him at myreo@rimfoundation.org.
URL:https://wheelsinmotion.org/event/rim-sci-roundtable-support-group/2025-12-03/
LOCATION:RIM\, 261 Mack Ave.\, Detroit\, MI\, 48201
CATEGORIES:RIM,Support Group
ATTACH;FMTTYPE=image/jpeg:https://wheelsinmotion.org/wp-content/uploads/2024/07/IMG_3847-e1721098542867.jpg
ORGANIZER;CN="Wheels in Motion":MAILTO:info@wheelsinmotionnonprofit.com
END:VEVENT
BEGIN:VEVENT
DTSTART;TZID=UTC:20251105T120000
DTEND;TZID=UTC:20251105T130000
DTSTAMP:20260424T132145
CREATED:20240716T030353Z
LAST-MODIFIED:20260109T194039Z
UID:10000158-1762344000-1762347600@wheelsinmotion.org
SUMMARY:RIM SCI Roundtable Support Group
DESCRIPTION:The Rehabilitation Institute of Michigan\, RIM\, has their SCI Roundtable support group meetings\nevery 1st & 3rd Wednesday of each month (unless canceled).\nThe meetings are held at RIM: 261 Mack Ave.\, Detroit 48201 from Noon-1pm.\nLunch is usually served.\nMyreo Dixon facilitates the group. If you any have questions\, call Myreo at  (313) 748-3548 or email him at myreo@rimfoundation.org.
URL:https://wheelsinmotion.org/event/rim-sci-roundtable-support-group/2025-11-05/
LOCATION:RIM\, 261 Mack Ave.\, Detroit\, MI\, 48201
CATEGORIES:RIM,Support Group
ATTACH;FMTTYPE=image/jpeg:https://wheelsinmotion.org/wp-content/uploads/2024/07/IMG_3847-e1721098542867.jpg
ORGANIZER;CN="Wheels in Motion":MAILTO:info@wheelsinmotionnonprofit.com
END:VEVENT
BEGIN:VEVENT
DTSTART;TZID=UTC:20251001T120000
DTEND;TZID=UTC:20251001T130000
DTSTAMP:20260424T132145
CREATED:20240716T030353Z
LAST-MODIFIED:20260109T194039Z
UID:10000157-1759320000-1759323600@wheelsinmotion.org
SUMMARY:RIM SCI Roundtable Support Group
DESCRIPTION:The Rehabilitation Institute of Michigan\, RIM\, has their SCI Roundtable support group meetings\nevery 1st & 3rd Wednesday of each month (unless canceled).\nThe meetings are held at RIM: 261 Mack Ave.\, Detroit 48201 from Noon-1pm.\nLunch is usually served.\nMyreo Dixon facilitates the group. If you any have questions\, call Myreo at  (313) 748-3548 or email him at myreo@rimfoundation.org.
URL:https://wheelsinmotion.org/event/rim-sci-roundtable-support-group/2025-10-01/
LOCATION:RIM\, 261 Mack Ave.\, Detroit\, MI\, 48201
CATEGORIES:RIM,Support Group
ATTACH;FMTTYPE=image/jpeg:https://wheelsinmotion.org/wp-content/uploads/2024/07/IMG_3847-e1721098542867.jpg
ORGANIZER;CN="Wheels in Motion":MAILTO:info@wheelsinmotionnonprofit.com
END:VEVENT
BEGIN:VEVENT
DTSTART;TZID=UTC:20250903T120000
DTEND;TZID=UTC:20250903T130000
DTSTAMP:20260424T132145
CREATED:20240716T030353Z
LAST-MODIFIED:20260109T194039Z
UID:10000156-1756900800-1756904400@wheelsinmotion.org
SUMMARY:RIM SCI Roundtable Support Group
DESCRIPTION:The Rehabilitation Institute of Michigan\, RIM\, has their SCI Roundtable support group meetings\nevery 1st & 3rd Wednesday of each month (unless canceled).\nThe meetings are held at RIM: 261 Mack Ave.\, Detroit 48201 from Noon-1pm.\nLunch is usually served.\nMyreo Dixon facilitates the group. If you any have questions\, call Myreo at  (313) 748-3548 or email him at myreo@rimfoundation.org.
URL:https://wheelsinmotion.org/event/rim-sci-roundtable-support-group/2025-09-03/
LOCATION:RIM\, 261 Mack Ave.\, Detroit\, MI\, 48201
CATEGORIES:RIM,Support Group
ATTACH;FMTTYPE=image/jpeg:https://wheelsinmotion.org/wp-content/uploads/2024/07/IMG_3847-e1721098542867.jpg
ORGANIZER;CN="Wheels in Motion":MAILTO:info@wheelsinmotionnonprofit.com
END:VEVENT
BEGIN:VEVENT
DTSTART;TZID=UTC:20250806T120000
DTEND;TZID=UTC:20250806T130000
DTSTAMP:20260424T132145
CREATED:20240716T030353Z
LAST-MODIFIED:20260109T194039Z
UID:10000155-1754481600-1754485200@wheelsinmotion.org
SUMMARY:RIM SCI Roundtable Support Group
DESCRIPTION:The Rehabilitation Institute of Michigan\, RIM\, has their SCI Roundtable support group meetings\nevery 1st & 3rd Wednesday of each month (unless canceled).\nThe meetings are held at RIM: 261 Mack Ave.\, Detroit 48201 from Noon-1pm.\nLunch is usually served.\nMyreo Dixon facilitates the group. If you any have questions\, call Myreo at  (313) 748-3548 or email him at myreo@rimfoundation.org.
URL:https://wheelsinmotion.org/event/rim-sci-roundtable-support-group/2025-08-06/
LOCATION:RIM\, 261 Mack Ave.\, Detroit\, MI\, 48201
CATEGORIES:RIM,Support Group
ATTACH;FMTTYPE=image/jpeg:https://wheelsinmotion.org/wp-content/uploads/2024/07/IMG_3847-e1721098542867.jpg
ORGANIZER;CN="Wheels in Motion":MAILTO:info@wheelsinmotionnonprofit.com
END:VEVENT
BEGIN:VEVENT
DTSTART;TZID=UTC:20250702T120000
DTEND;TZID=UTC:20250702T130000
DTSTAMP:20260424T132145
CREATED:20240716T030353Z
LAST-MODIFIED:20260109T194039Z
UID:10000154-1751457600-1751461200@wheelsinmotion.org
SUMMARY:RIM SCI Roundtable Support Group
DESCRIPTION:The Rehabilitation Institute of Michigan\, RIM\, has their SCI Roundtable support group meetings\nevery 1st & 3rd Wednesday of each month (unless canceled).\nThe meetings are held at RIM: 261 Mack Ave.\, Detroit 48201 from Noon-1pm.\nLunch is usually served.\nMyreo Dixon facilitates the group. If you any have questions\, call Myreo at  (313) 748-3548 or email him at myreo@rimfoundation.org.
URL:https://wheelsinmotion.org/event/rim-sci-roundtable-support-group/2025-07-02/
LOCATION:RIM\, 261 Mack Ave.\, Detroit\, MI\, 48201
CATEGORIES:RIM,Support Group
ATTACH;FMTTYPE=image/jpeg:https://wheelsinmotion.org/wp-content/uploads/2024/07/IMG_3847-e1721098542867.jpg
ORGANIZER;CN="Wheels in Motion":MAILTO:info@wheelsinmotionnonprofit.com
END:VEVENT
BEGIN:VEVENT
DTSTART;TZID=UTC:20250604T120000
DTEND;TZID=UTC:20250604T130000
DTSTAMP:20260424T132145
CREATED:20240716T030353Z
LAST-MODIFIED:20260109T194039Z
UID:10000153-1749038400-1749042000@wheelsinmotion.org
SUMMARY:RIM SCI Roundtable Support Group
DESCRIPTION:The Rehabilitation Institute of Michigan\, RIM\, has their SCI Roundtable support group meetings\nevery 1st & 3rd Wednesday of each month (unless canceled).\nThe meetings are held at RIM: 261 Mack Ave.\, Detroit 48201 from Noon-1pm.\nLunch is usually served.\nMyreo Dixon facilitates the group. If you any have questions\, call Myreo at  (313) 748-3548 or email him at myreo@rimfoundation.org.
URL:https://wheelsinmotion.org/event/rim-sci-roundtable-support-group/2025-06-04/
LOCATION:RIM\, 261 Mack Ave.\, Detroit\, MI\, 48201
CATEGORIES:RIM,Support Group
ATTACH;FMTTYPE=image/jpeg:https://wheelsinmotion.org/wp-content/uploads/2024/07/IMG_3847-e1721098542867.jpg
ORGANIZER;CN="Wheels in Motion":MAILTO:info@wheelsinmotionnonprofit.com
END:VEVENT
BEGIN:VEVENT
DTSTART;TZID=UTC:20250507T120000
DTEND;TZID=UTC:20250507T130000
DTSTAMP:20260424T132145
CREATED:20240716T030353Z
LAST-MODIFIED:20260109T194039Z
UID:10000152-1746619200-1746622800@wheelsinmotion.org
SUMMARY:RIM SCI Roundtable Support Group
DESCRIPTION:The Rehabilitation Institute of Michigan\, RIM\, has their SCI Roundtable support group meetings\nevery 1st & 3rd Wednesday of each month (unless canceled).\nThe meetings are held at RIM: 261 Mack Ave.\, Detroit 48201 from Noon-1pm.\nLunch is usually served.\nMyreo Dixon facilitates the group. If you any have questions\, call Myreo at  (313) 748-3548 or email him at myreo@rimfoundation.org.
URL:https://wheelsinmotion.org/event/rim-sci-roundtable-support-group/2025-05-07/
LOCATION:RIM\, 261 Mack Ave.\, Detroit\, MI\, 48201
CATEGORIES:RIM,Support Group
ATTACH;FMTTYPE=image/jpeg:https://wheelsinmotion.org/wp-content/uploads/2024/07/IMG_3847-e1721098542867.jpg
ORGANIZER;CN="Wheels in Motion":MAILTO:info@wheelsinmotionnonprofit.com
END:VEVENT
BEGIN:VEVENT
DTSTART;TZID=UTC:20250402T120000
DTEND;TZID=UTC:20250402T130000
DTSTAMP:20260424T132145
CREATED:20240716T030353Z
LAST-MODIFIED:20260109T194039Z
UID:10000151-1743595200-1743598800@wheelsinmotion.org
SUMMARY:RIM SCI Roundtable Support Group
DESCRIPTION:The Rehabilitation Institute of Michigan\, RIM\, has their SCI Roundtable support group meetings\nevery 1st & 3rd Wednesday of each month (unless canceled).\nThe meetings are held at RIM: 261 Mack Ave.\, Detroit 48201 from Noon-1pm.\nLunch is usually served.\nMyreo Dixon facilitates the group. If you any have questions\, call Myreo at  (313) 748-3548 or email him at myreo@rimfoundation.org.
URL:https://wheelsinmotion.org/event/rim-sci-roundtable-support-group/2025-04-02/
LOCATION:RIM\, 261 Mack Ave.\, Detroit\, MI\, 48201
CATEGORIES:RIM,Support Group
ATTACH;FMTTYPE=image/jpeg:https://wheelsinmotion.org/wp-content/uploads/2024/07/IMG_3847-e1721098542867.jpg
ORGANIZER;CN="Wheels in Motion":MAILTO:info@wheelsinmotionnonprofit.com
END:VEVENT
BEGIN:VEVENT
DTSTART;TZID=UTC:20250305T120000
DTEND;TZID=UTC:20250305T130000
DTSTAMP:20260424T132145
CREATED:20240716T030353Z
LAST-MODIFIED:20260109T194039Z
UID:10000150-1741176000-1741179600@wheelsinmotion.org
SUMMARY:RIM SCI Roundtable Support Group
DESCRIPTION:The Rehabilitation Institute of Michigan\, RIM\, has their SCI Roundtable support group meetings\nevery 1st & 3rd Wednesday of each month (unless canceled).\nThe meetings are held at RIM: 261 Mack Ave.\, Detroit 48201 from Noon-1pm.\nLunch is usually served.\nMyreo Dixon facilitates the group. If you any have questions\, call Myreo at  (313) 748-3548 or email him at myreo@rimfoundation.org.
URL:https://wheelsinmotion.org/event/rim-sci-roundtable-support-group/2025-03-05/
LOCATION:RIM\, 261 Mack Ave.\, Detroit\, MI\, 48201
CATEGORIES:RIM,Support Group
ATTACH;FMTTYPE=image/jpeg:https://wheelsinmotion.org/wp-content/uploads/2024/07/IMG_3847-e1721098542867.jpg
ORGANIZER;CN="Wheels in Motion":MAILTO:info@wheelsinmotionnonprofit.com
END:VEVENT
BEGIN:VEVENT
DTSTART;TZID=UTC:20250205T120000
DTEND;TZID=UTC:20250205T130000
DTSTAMP:20260424T132145
CREATED:20240716T030353Z
LAST-MODIFIED:20260109T194039Z
UID:10000149-1738756800-1738760400@wheelsinmotion.org
SUMMARY:RIM SCI Roundtable Support Group
DESCRIPTION:The Rehabilitation Institute of Michigan\, RIM\, has their SCI Roundtable support group meetings\nevery 1st & 3rd Wednesday of each month (unless canceled).\nThe meetings are held at RIM: 261 Mack Ave.\, Detroit 48201 from Noon-1pm.\nLunch is usually served.\nMyreo Dixon facilitates the group. If you any have questions\, call Myreo at  (313) 748-3548 or email him at myreo@rimfoundation.org.
URL:https://wheelsinmotion.org/event/rim-sci-roundtable-support-group/2025-02-05/
LOCATION:RIM\, 261 Mack Ave.\, Detroit\, MI\, 48201
CATEGORIES:RIM,Support Group
ATTACH;FMTTYPE=image/jpeg:https://wheelsinmotion.org/wp-content/uploads/2024/07/IMG_3847-e1721098542867.jpg
ORGANIZER;CN="Wheels in Motion":MAILTO:info@wheelsinmotionnonprofit.com
END:VEVENT
BEGIN:VEVENT
DTSTART;TZID=UTC:20250101T120000
DTEND;TZID=UTC:20250101T130000
DTSTAMP:20260424T132145
CREATED:20240716T030353Z
LAST-MODIFIED:20260109T194039Z
UID:10000148-1735732800-1735736400@wheelsinmotion.org
SUMMARY:RIM SCI Roundtable Support Group
DESCRIPTION:The Rehabilitation Institute of Michigan\, RIM\, has their SCI Roundtable support group meetings\nevery 1st & 3rd Wednesday of each month (unless canceled).\nThe meetings are held at RIM: 261 Mack Ave.\, Detroit 48201 from Noon-1pm.\nLunch is usually served.\nMyreo Dixon facilitates the group. If you any have questions\, call Myreo at  (313) 748-3548 or email him at myreo@rimfoundation.org.
URL:https://wheelsinmotion.org/event/rim-sci-roundtable-support-group/2025-01-01/
LOCATION:RIM\, 261 Mack Ave.\, Detroit\, MI\, 48201
CATEGORIES:RIM,Support Group
ATTACH;FMTTYPE=image/jpeg:https://wheelsinmotion.org/wp-content/uploads/2024/07/IMG_3847-e1721098542867.jpg
ORGANIZER;CN="Wheels in Motion":MAILTO:info@wheelsinmotionnonprofit.com
END:VEVENT
BEGIN:VEVENT
DTSTART;TZID=UTC:20241212T173000
DTEND;TZID=UTC:20241212T230000
DTSTAMP:20260424T132145
CREATED:20241112T211008Z
LAST-MODIFIED:20241112T211142Z
UID:10000223-1734024600-1734044400@wheelsinmotion.org
SUMMARY:RIM Foundation 'Go Beyond' Gala
DESCRIPTION:Don’t Miss the Go Beyond Gala to honor three extraordinary individuals who are going Beyond Impossible !  Two of the entries are on our board of directors here at Wheels in Motion.org! \nBilly Vickers and Devin Kachar\, along with our wheels in motion and Ambassador Myreo Dixon will all be honored this year as spectacular individuals who are changing the world with who they are. \nhttps://birdease.com/gbg24 \n  \n\nVenue\nHuntington Center\n1 Washington Blvd\nDetroit Michigan 48226\nGet Directions\n\n\nEvent Contact\nKelly Pyle\n\nEmail: kpyle@rimfoundation.org\n\n\n\n\n\n\n6:00 P.M.\n\n5:30 PM – Registration\n6:00 PM – Cocktails\n7:00 PM – Dinner & Program
URL:https://wheelsinmotion.org/event/rim-foundation-go-beyond-gala/
LOCATION:Huntington Place\, 1 Washington Blvd\, Detroit\, Michigan\, 48226
CATEGORIES:Gala,RIM
ATTACH;FMTTYPE=image/webp:https://wheelsinmotion.org/wp-content/uploads/2024/11/a25c8287-7859-4b35-9ade-2af7f9eff48f.webp
ORGANIZER;CN="Wheels in Motion":MAILTO:info@wheelsinmotionnonprofit.com
END:VEVENT
BEGIN:VEVENT
DTSTART;TZID=UTC:20241204T120000
DTEND;TZID=UTC:20241204T130000
DTSTAMP:20260424T132145
CREATED:20240716T030353Z
LAST-MODIFIED:20260109T194039Z
UID:10000147-1733313600-1733317200@wheelsinmotion.org
SUMMARY:RIM SCI Roundtable Support Group
DESCRIPTION:The Rehabilitation Institute of Michigan\, RIM\, has their SCI Roundtable support group meetings\nevery 1st & 3rd Wednesday of each month (unless canceled).\nThe meetings are held at RIM: 261 Mack Ave.\, Detroit 48201 from Noon-1pm.\nLunch is usually served.\nMyreo Dixon facilitates the group. If you any have questions\, call Myreo at  (313) 748-3548 or email him at myreo@rimfoundation.org.
URL:https://wheelsinmotion.org/event/rim-sci-roundtable-support-group/2024-12-04/
LOCATION:RIM\, 261 Mack Ave.\, Detroit\, MI\, 48201
CATEGORIES:RIM,Support Group
ATTACH;FMTTYPE=image/jpeg:https://wheelsinmotion.org/wp-content/uploads/2024/07/IMG_3847-e1721098542867.jpg
ORGANIZER;CN="Wheels in Motion":MAILTO:info@wheelsinmotionnonprofit.com
END:VEVENT
BEGIN:VEVENT
DTSTART;TZID=UTC:20241106T120000
DTEND;TZID=UTC:20241106T130000
DTSTAMP:20260424T132145
CREATED:20240716T030353Z
LAST-MODIFIED:20260109T194039Z
UID:10000146-1730894400-1730898000@wheelsinmotion.org
SUMMARY:RIM SCI Roundtable Support Group
DESCRIPTION:The Rehabilitation Institute of Michigan\, RIM\, has their SCI Roundtable support group meetings\nevery 1st & 3rd Wednesday of each month (unless canceled).\nThe meetings are held at RIM: 261 Mack Ave.\, Detroit 48201 from Noon-1pm.\nLunch is usually served.\nMyreo Dixon facilitates the group. If you any have questions\, call Myreo at  (313) 748-3548 or email him at myreo@rimfoundation.org.
URL:https://wheelsinmotion.org/event/rim-sci-roundtable-support-group/2024-11-06/
LOCATION:RIM\, 261 Mack Ave.\, Detroit\, MI\, 48201
CATEGORIES:RIM,Support Group
ATTACH;FMTTYPE=image/jpeg:https://wheelsinmotion.org/wp-content/uploads/2024/07/IMG_3847-e1721098542867.jpg
ORGANIZER;CN="Wheels in Motion":MAILTO:info@wheelsinmotionnonprofit.com
END:VEVENT
BEGIN:VEVENT
DTSTART;TZID=UTC:20241002T120000
DTEND;TZID=UTC:20241002T130000
DTSTAMP:20260424T132145
CREATED:20240716T030353Z
LAST-MODIFIED:20260109T194039Z
UID:10000145-1727870400-1727874000@wheelsinmotion.org
SUMMARY:RIM SCI Roundtable Support Group
DESCRIPTION:The Rehabilitation Institute of Michigan\, RIM\, has their SCI Roundtable support group meetings\nevery 1st & 3rd Wednesday of each month (unless canceled).\nThe meetings are held at RIM: 261 Mack Ave.\, Detroit 48201 from Noon-1pm.\nLunch is usually served.\nMyreo Dixon facilitates the group. If you any have questions\, call Myreo at  (313) 748-3548 or email him at myreo@rimfoundation.org.
URL:https://wheelsinmotion.org/event/rim-sci-roundtable-support-group/2024-10-02/
LOCATION:RIM\, 261 Mack Ave.\, Detroit\, MI\, 48201
CATEGORIES:RIM,Support Group
ATTACH;FMTTYPE=image/jpeg:https://wheelsinmotion.org/wp-content/uploads/2024/07/IMG_3847-e1721098542867.jpg
ORGANIZER;CN="Wheels in Motion":MAILTO:info@wheelsinmotionnonprofit.com
END:VEVENT
BEGIN:VEVENT
DTSTART;TZID=UTC:20240904T120000
DTEND;TZID=UTC:20240904T130000
DTSTAMP:20260424T132145
CREATED:20240716T030353Z
LAST-MODIFIED:20260109T194039Z
UID:10000144-1725451200-1725454800@wheelsinmotion.org
SUMMARY:RIM SCI Roundtable Support Group
DESCRIPTION:The Rehabilitation Institute of Michigan\, RIM\, has their SCI Roundtable support group meetings\nevery 1st & 3rd Wednesday of each month (unless canceled).\nThe meetings are held at RIM: 261 Mack Ave.\, Detroit 48201 from Noon-1pm.\nLunch is usually served.\nMyreo Dixon facilitates the group. If you any have questions\, call Myreo at  (313) 748-3548 or email him at myreo@rimfoundation.org.
URL:https://wheelsinmotion.org/event/rim-sci-roundtable-support-group/2024-09-04/
LOCATION:RIM\, 261 Mack Ave.\, Detroit\, MI\, 48201
CATEGORIES:RIM,Support Group
ATTACH;FMTTYPE=image/jpeg:https://wheelsinmotion.org/wp-content/uploads/2024/07/IMG_3847-e1721098542867.jpg
ORGANIZER;CN="Wheels in Motion":MAILTO:info@wheelsinmotionnonprofit.com
END:VEVENT
BEGIN:VEVENT
DTSTART;TZID=UTC:20240807T120000
DTEND;TZID=UTC:20240807T130000
DTSTAMP:20260424T132145
CREATED:20240716T030353Z
LAST-MODIFIED:20260109T194039Z
UID:10000143-1723032000-1723035600@wheelsinmotion.org
SUMMARY:RIM SCI Roundtable Support Group
DESCRIPTION:The Rehabilitation Institute of Michigan\, RIM\, has their SCI Roundtable support group meetings\nevery 1st & 3rd Wednesday of each month (unless canceled).\nThe meetings are held at RIM: 261 Mack Ave.\, Detroit 48201 from Noon-1pm.\nLunch is usually served.\nMyreo Dixon facilitates the group. If you any have questions\, call Myreo at  (313) 748-3548 or email him at myreo@rimfoundation.org.
URL:https://wheelsinmotion.org/event/rim-sci-roundtable-support-group/2024-08-07/
LOCATION:RIM\, 261 Mack Ave.\, Detroit\, MI\, 48201
CATEGORIES:RIM,Support Group
ATTACH;FMTTYPE=image/jpeg:https://wheelsinmotion.org/wp-content/uploads/2024/07/IMG_3847-e1721098542867.jpg
ORGANIZER;CN="Wheels in Motion":MAILTO:info@wheelsinmotionnonprofit.com
END:VEVENT
END:VCALENDAR