BEGIN:VCALENDAR
VERSION:2.0
PRODID:-//Wheels In Motion - ECPv6.15.20//NONSGML v1.0//EN
CALSCALE:GREGORIAN
METHOD:PUBLISH
X-ORIGINAL-URL:https://wheelsinmotion.org
X-WR-CALDESC:Events for Wheels In Motion
REFRESH-INTERVAL;VALUE=DURATION:PT1H
X-Robots-Tag:noindex
X-PUBLISHED-TTL:PT1H
BEGIN:VTIMEZONE
TZID:UTC
BEGIN:STANDARD
TZOFFSETFROM:+0000
TZOFFSETTO:+0000
TZNAME:UTC
DTSTART:20250101T000000
END:STANDARD
END:VTIMEZONE
BEGIN:VEVENT
DTSTART;TZID=UTC:20260618T100000
DTEND;TZID=UTC:20260618T130000
DTSTAMP:20260424T173507
CREATED:20260322T201642Z
LAST-MODIFIED:20260322T201642Z
UID:10000318-1781776800-1781787600@wheelsinmotion.org
SUMMARY:DiversAbility Day at Normandy Oaks County Park!
DESCRIPTION:DiversAbility Day at Normandy Oaks County Park!\nThursday\, June 18th\, 202610:00 AM – 1:00 PM\n \nOutdoor fun\, fresh air\, and adaptive adventures await! This DiversAbility Day is packed with activities for all abilities\, from adaptive cycling to archery—plus\, get up close with farm animals! \nTest your aim in adaptive archery                                                                                                                                                          Go for a ride on an adaptive cyclePlay yard games with friends & familyEnjoy a hot dog lunch \nThis is all about access\, inclusion\, and fun—so grab a friend\, bring your adventurous spirit\, and come play with us! \nQuestions or accommodations? Call or text 248-221-8040\n \nHosted by Oakland County Parks\,Wheels in Motion & Disability Network Eastern Michigan (DNEM).
URL:https://wheelsinmotion.org/event/diversability-day-at-normandy-oaks-county-park/
LOCATION:Normandy Oaks County Parks\, 4234 Delemere Royal Oak\, Royal Oak\, MI\, 48067
CATEGORIES:Adaptive Archery,Adaptive biking,DiversAbility Day,Handcycling
ATTACH;FMTTYPE=image/webp:https://wheelsinmotion.org/wp-content/uploads/2024/06/DiversAbility-Day-705x435-1.webp
ORGANIZER;CN="Disability Network Eastern Michigan%2C":MAILTO:info@dnemichigan.org
END:VEVENT
BEGIN:VEVENT
DTSTART;TZID=UTC:20260715T130000
DTEND;TZID=UTC:20260715T160000
DTSTAMP:20260424T173507
CREATED:20260322T195029Z
LAST-MODIFIED:20260322T195029Z
UID:10000316-1784120400-1784131200@wheelsinmotion.org
SUMMARY:DiversAbility Day at Interlochen State Park  - July 15th from 1pm -4 pm.
DESCRIPTION:DiversAbility Day at Interlochen State Park!\nJoin Wheels in Motion  at DiversAbility Days at Interlochen State Park on July 16 from 11 AM – 2 PM! \nInterlochen State Park – 4167 J Maddy Pkwy\, Interlochen\, MI 49643 \nLet’s get outside together. \nSpace is limited\, so register now!👉 Register hereJoin us at Interlochen State Park for a day of fresh air\, movement\, connection\, and real freedom in the great outdoors. Whether you’re hitting the trails on a Handcycle\, cruising the lake on an accessible pontoon\, or just enjoying lunch under the trees—this day is for you. \n                                                \nHosted in partnership with:Lighthouse Neurological Rehabilitation\, Disability Network Northern Michigan\, Wheels In Motion\, Michigan DNR\, Michigan Assistive Technology Program\, Rehab And Mobility Systems\, Discovery Pier\, Interlochen State Park \nWhat’s happening:\n\n\nBarrier-free boating with Wheels in Motion \n\n\nAdaptive kayaking \n\n\nTrackchair rides \n\n\nAdaptive handcycling with Rehab & Mobility Systems \n\n\nFishing and more \n\n\nLunch is provided with registration.You bring your curiosity—we’ll handle the rest. \nSpace is limited\, so register now!👉 Register here \nFor questions\, email JStark@lighthouserehab.comLearn more at LighthouseRehab.com
URL:https://wheelsinmotion.org/event/diversability-day-at-interlochen-state-park-july-15th-from-1pm-4-pm/
LOCATION:Interlochen State Park\, 4167 J. Maddy Pkwy\, Interlochen\, MI\, 49643
CATEGORIES:Adaptive Kayaking,Barrier Free Boating,DiversAbility Day,Diversability Days,Handcycling
ATTACH;FMTTYPE=image/jpeg:https://wheelsinmotion.org/wp-content/uploads/2026/03/Interlochen-2026-e1774208948805.jpg
ORGANIZER;CN="Wheels in Motion":MAILTO:info@wheelsinmotionnonprofit.com
END:VEVENT
BEGIN:VEVENT
DTSTART;TZID=UTC:20260805T103000
DTEND;TZID=UTC:20260805T133000
DTSTAMP:20260424T173507
CREATED:20260320T204049Z
LAST-MODIFIED:20260324T033245Z
UID:10000315-1785925800-1785936600@wheelsinmotion.org
SUMMARY:Diversability Day & Boating at Lake St. Clair
DESCRIPTION:DiversAbility Day & Barrier-Free Boating 🌊🎯\n📅 Wednesday\, August 5th\, 2026🕚 10:30am – 1:30pm📍 Lake St. Clair Metropark – 31300 Metro Parkway\, Harrison Twp.\, MI💰 Park Entry: Metroparks sticker\, Michigan Activity Pass\, or $10/vehicle \nGet ready for a day of adaptive adventure on the water and beyond! Whether you’re cruising the lake on a pontoon\, testing your skills in adaptive archery\, or exploring new ways to ride with adaptive cycles\, there’s something for everyone. \n🏹 Take aim in adaptive archery🚲 Ride out on an adaptive cycle🎨 Express yourself with face painting🌊 Feel the freedom on a pontoon boat ride🏖️ Enjoy beach access & lawn games🌭 Refuel with a hot dog lunch \nAll are welcome—come out\, explore\, and connect with the adaptive recreation community! \n📲 Questions or accommodations? Email REC-IT@DNEMichigan.org or call 586-268-4160 \nPresented by Wheels in Motion\, Disability Network Eastern Michigan (DNEM)\, and Metroparks.
URL:https://wheelsinmotion.org/event/diversability-day-boating-at-lake-st-clair-2/
LOCATION:Lake St Clair Metropark\, 31300 Metro Pkwy\, Harrison Twp\, MI\, 48045
CATEGORIES:Adaptive biking,Barrier Free Boating,DiversAbility Day,Diversability Days,Handcycling
ATTACH;FMTTYPE=image/jpeg:https://wheelsinmotion.org/wp-content/uploads/2024/07/C170F346-388A-445D-9F6D-5D092EF6455F_1_105_c.jpeg
ORGANIZER;CN="Wheels in Motion":MAILTO:info@wheelsinmotionnonprofit.com
END:VEVENT
BEGIN:VEVENT
DTSTART;TZID=UTC:20260813T160000
DTEND;TZID=UTC:20260813T190000
DTSTAMP:20260424T173507
CREATED:20260320T203455Z
LAST-MODIFIED:20260322T200256Z
UID:10000314-1786636800-1786647600@wheelsinmotion.org
SUMMARY:Diversability Day & Barrier Free Boating !
DESCRIPTION:DiversAbility Day & Barrier-Free Boating 🚤🎯🎡\nThursday\, August 13th\, 20264:00 PM – 7:00 PMIndependence Oaks County Park – 9501 Sashabaw Rd.\, Clarkston\, MIFree Park Entry! \nCome play with us at DiversAbility Day! This is your chance to explore free adaptive recreation in a welcoming\, all-inclusive environment. \nHit the water with pontoon boat rides & adaptive kayakingTry adaptive cycles and discover new ways to moveTake aim in adaptive archeryGet creative with face paintingEnjoy a classic summer bite—hot dog lunch included! \nThis is more than just a day at the park—it’s about fun\, freedom\, and finding new adventures. Bring your friends\, family\, or come solo—everyone is welcome to experience the joy of adaptive recreation. \n📲 Questions or accommodation requests? Call or text 248-221-8040 \nBrought to you by Wheels in Motion\, Disability Network Eastern Michigan (DNEM)\, and Oakland County Parks. \nLet’s make some waves\, hit some targets\, and roll into summer together! 🌟 \n  \n 
URL:https://wheelsinmotion.org/event/diversability-day-barrier-free-boating/
LOCATION:Independence Oaks\, 9501 Sashabaw Rd\, Clarkston\, 48348\, United States
CATEGORIES:Barrier Free Boating,DiversAbility Day,Diversability Days
ATTACH;FMTTYPE=image/png:https://wheelsinmotion.org/wp-content/uploads/2024/05/Web-Slide-Barrier-Free-Boating-1920-x-967-px-e1717475041988.png
END:VEVENT
END:VCALENDAR