BEGIN:VCALENDAR
VERSION:2.0
PRODID:-//Wheels In Motion - ECPv6.15.20//NONSGML v1.0//EN
CALSCALE:GREGORIAN
METHOD:PUBLISH
X-WR-CALNAME:Wheels In Motion
X-ORIGINAL-URL:https://wheelsinmotion.org
X-WR-CALDESC:Events for Wheels In Motion
REFRESH-INTERVAL;VALUE=DURATION:PT1H
X-Robots-Tag:noindex
X-PUBLISHED-TTL:PT1H
BEGIN:VTIMEZONE
TZID:UTC
BEGIN:STANDARD
TZOFFSETFROM:+0000
TZOFFSETTO:+0000
TZNAME:UTC
DTSTART:20250101T000000
END:STANDARD
END:VTIMEZONE
BEGIN:VEVENT
DTSTART;TZID=UTC:20260916T140000
DTEND;TZID=UTC:20260916T190000
DTSTAMP:20260424T162611
CREATED:20251205T184604Z
LAST-MODIFIED:20260324T014755Z
UID:10000284-1789567200-1789585200@wheelsinmotion.org
SUMMARY:Disability Dune Days
DESCRIPTION:Disability Dune Day – Silver Lake Sand DunesSilver Lake State Park\, Mears\, MIWednesday\, September 16 | 2:00 PM – 7:00 PM\nWheels in Motion is bringing the action back to Silver Lake State Park for another unforgettable experience on the dunes. \nWe’re gathering for a full afternoon of off-road rides with experienced volunteer drivers—side-by-sides\, Jeeps\, Broncos\, buggies\, and more. Some of our drivers are disabled themselves and know just how powerful this kind of adventure can be. \nThis day isn’t just about the ride—it’s about connection\, community\, and the kind of memory you carry with you.                                                                                                                                                                        We’ve planned it so we’ll all be up on Sunset Hill to catch what’s said to be one of the most stunning sunsets in the world. \nThis event is free and open to individuals with physical disabilities and their families. Adults may bring a family member. Children must be age 10 or older. \nProudly hosted in partnership with Silver Lake Sand Dunes State Park and the Michigan DNR. \n\n\n\n\n\n\n\n\n\n\n\n\n\n\n\n\n      \nCome on out\, enjoy the excitement and make some memories with community.  \nWe’ve tailored the event to capture the sunset–which is supposed to be among the most beautiful sunsets in the world. \n*Adults may be accompanied by a family member. Children must be over 10 years of age. \nRegistration Here:\n  \n \n  \n  \n \n  \n \n  \n  \n2026 Dune Day Early Flyer
URL:https://wheelsinmotion.org/event/disability-dune-days-4/
LOCATION:Silver Lake State Park\, 8969 W Fox Rd\, Mears\, MI
CATEGORIES:Disability Dune Days,Offroad ATV/SXS
ATTACH;FMTTYPE=image/jpeg:https://wheelsinmotion.org/wp-content/uploads/2024/11/IMG_0944-scaled.jpeg
ORGANIZER;CN="Wheels in Motion":MAILTO:info@wheelsinmotionnonprofit.com
END:VEVENT
END:VCALENDAR