BEGIN:VCALENDAR
VERSION:2.0
PRODID:-//Wheels In Motion - ECPv6.15.20//NONSGML v1.0//EN
CALSCALE:GREGORIAN
METHOD:PUBLISH
X-ORIGINAL-URL:https://wheelsinmotion.org
X-WR-CALDESC:Events for Wheels In Motion
REFRESH-INTERVAL;VALUE=DURATION:PT1H
X-Robots-Tag:noindex
X-PUBLISHED-TTL:PT1H
BEGIN:VTIMEZONE
TZID:UTC
BEGIN:STANDARD
TZOFFSETFROM:+0000
TZOFFSETTO:+0000
TZNAME:UTC
DTSTART:20250101T000000
END:STANDARD
END:VTIMEZONE
BEGIN:VTIMEZONE
TZID:America/Halifax
BEGIN:DAYLIGHT
TZOFFSETFROM:-0400
TZOFFSETTO:-0300
TZNAME:ADT
DTSTART:20250309T060000
END:DAYLIGHT
BEGIN:STANDARD
TZOFFSETFROM:-0300
TZOFFSETTO:-0400
TZNAME:AST
DTSTART:20251102T050000
END:STANDARD
BEGIN:DAYLIGHT
TZOFFSETFROM:-0400
TZOFFSETTO:-0300
TZNAME:ADT
DTSTART:20260308T060000
END:DAYLIGHT
BEGIN:STANDARD
TZOFFSETFROM:-0300
TZOFFSETTO:-0400
TZNAME:AST
DTSTART:20261101T050000
END:STANDARD
BEGIN:DAYLIGHT
TZOFFSETFROM:-0400
TZOFFSETTO:-0300
TZNAME:ADT
DTSTART:20270314T060000
END:DAYLIGHT
BEGIN:STANDARD
TZOFFSETFROM:-0300
TZOFFSETTO:-0400
TZNAME:AST
DTSTART:20271107T050000
END:STANDARD
END:VTIMEZONE
BEGIN:VEVENT
DTSTART;TZID=UTC:20260515T103000
DTEND;TZID=UTC:20260515T133000
DTSTAMP:20260424T131126
CREATED:20260119T135526Z
LAST-MODIFIED:20260228T224830Z
UID:10000307-1778841000-1778851800@wheelsinmotion.org
SUMMARY:Veterans Dirt Day! Off-Road Rides for Our Heroes.
DESCRIPTION:Veteran Dirt Day – Off-Road Rides for Our HeroesFriday\, May 15th\, 202610:30AM – 1:30 PMHolly Oaks ORV Park – 14551 Shields Road\, Holly\, MI 48442 \nCelebrate Armed Forces Day the Michigan way — outside. \nVeteran Dirt Day is proudly presented by Oakland County Parks\, Detroit 4Fest\, and Wheels in Motion at Holly Oaks ORV Park. \nOn Friday\, May 15\, 2026\, veterans (plus one guest\, age 10+) will receive a guided off-road ride with experienced volunteer drivers. Ride time slots will be assigned prior to the event. \nThis day is about gratitude\, fresh air\, engines\, and community — no speeches\, just good people doing something memorable together. \nSpots are limited and registration is required. \nRegister here: https://bit.ly/4rSPpY9 \nWe’d be honored to have you join us. \nQuestions? Text or call 248-221-8040 \n💙 Brought to you by Oakland County Parks\, Wheels in Motion\, Detroit 4Fest\, and Holly Oaks ORV Park.
URL:https://wheelsinmotion.org/event/veterans-dirt-day-off-road-rides-for-our-heroes/
LOCATION:Holly Oaks ORV Park\, 14551 Shields Road\, Holly\, MI\, 48442\, United States
CATEGORIES:Detroit 4Fest,Disability Dirt Days,Offroad ATV/SXS,Veterans,Veterans Dirt Day
ATTACH;FMTTYPE=image/jpeg:https://wheelsinmotion.org/wp-content/uploads/2026/01/Veteran-Dirt-Day-2026-final-e1772318816533.jpg
ORGANIZER;CN="Wheels in Motion":MAILTO:info@wheelsinmotionnonprofit.com
END:VEVENT
BEGIN:VEVENT
DTSTART;TZID=America/Halifax:20260517T110000
DTEND;TZID=America/Halifax:20260517T150000
DTSTAMP:20260424T131126
CREATED:20260122T162128Z
LAST-MODIFIED:20260228T225241Z
UID:10000308-1779015600-1779030000@wheelsinmotion.org
SUMMARY:Get Ready for Disability Dirt Day at Holly Oaks ORV Park!
DESCRIPTION:Disability Dirt Day – Off-Road Adventure for All AbilitiesSunday\, May 17th\, 202611:00 AM – 3:00 PMHolly Oaks ORV Park – 14551 Shields Road\, Holly\, MI 48442 \nReady to kick up some dust?Come experience the thrill of off-roading with the help of our amazing volunteer drivers\, who’ll take you on a wild ride through the rugged terrain of Holly Oaks ORV Park. Whether it’s in a Jeep\, side-by-side\, or another off-road beast\, you’re in for an unforgettable experience. \nEach rider may bring one guest (ages 10+)\, and waivers are required. Once you register\, you’ll receive a confirmation email the week before with final details. \n For individuals with disabilities                                                                                                                                                   Free event – space is limited No guarantee on vehicle type—we like to keep it wild! \nQuestions? Text or call 248-221-8040Register Here!  https://bit.ly/4rSPpY9\nThis event is made possible thanks to our awesome partnership with Oakland County Parks\,  Disability Network of Eastern Michigan\, Detroit 4Fest and Rehab Without Walls! \nGet ready for rides\, smiles\, and memories that stick. See you on the trails!
URL:https://wheelsinmotion.org/event/get-ready-for-disability-dirt-day-at-holly-oaks-orv-park-5/
LOCATION:Holly Oaks ORV Park\, 14551 Shields Road\, Holly\, MI\, 48442\, United States
CATEGORIES:Disability Dirt Days,Jeep,Offroad ATV/SXS,Side by Side
ATTACH;FMTTYPE=image/jpeg:https://wheelsinmotion.org/wp-content/uploads/2026/01/Untitled-114382-scaled.jpg
ORGANIZER;CN="Oakland County Parks":MAILTO:doreys@oakgov.com
END:VEVENT
BEGIN:VEVENT
DTSTART;TZID=America/Halifax:20260823T110000
DTEND;TZID=America/Halifax:20260823T150000
DTSTAMP:20260424T131126
CREATED:20260324T034042Z
LAST-MODIFIED:20260324T034042Z
UID:10000320-1787482800-1787497200@wheelsinmotion.org
SUMMARY:Get Ready for Disability Dirt Day at Holly Oaks ORV Park!
DESCRIPTION:Disability Dirt Day – Off-Road Adventure for All AbilitiesSunday\, August 23rd\, 202611:00 AM – 3:00 PMHolly Oaks ORV Park – 14551 Shields Road\, Holly\, MI 48442 \nReady to kick up some dust?Come experience the thrill of off-roading with the help of our amazing volunteer drivers\, who’ll take you on a wild ride through the rugged terrain of Holly Oaks ORV Park. Whether it’s in a Jeep\, side-by-side\, or another off-road beast\, you’re in for an unforgettable experience. \nEach rider may bring one guest (ages 10+)\, and waivers are required. Once you register\, you’ll receive a confirmation email the week before with final details. \n For individuals with disabilities                                                                                                                                                   Free event – space is limited No guarantee on vehicle type—we like to keep it wild! \nQuestions? Text or call 248-221-8040Register Here!  https://bit.ly/4rSPpY9\nThis event is made possible thanks to our awesome partnership with Oakland County Parks\,  Disability Network of Eastern Michigan\, Detroit 4Fest and Rehab Without Walls! \nGet ready for rides\, smiles\, and memories that stick. See you on the trails!
URL:https://wheelsinmotion.org/event/get-ready-for-disability-dirt-day-at-holly-oaks-orv-park-6/
LOCATION:Holly Oaks ORV Park\, 14551 Shields Road\, Holly\, MI\, 48442\, United States
CATEGORIES:Disability Dirt Days,Jeep,Offroad ATV/SXS,Side by Side
ATTACH;FMTTYPE=image/jpeg:https://wheelsinmotion.org/wp-content/uploads/2026/01/Untitled-114382-scaled.jpg
ORGANIZER;CN="Oakland County Parks":MAILTO:doreys@oakgov.com
END:VEVENT
BEGIN:VEVENT
DTSTART;TZID=America/Halifax:20261018T110000
DTEND;TZID=America/Halifax:20261018T150000
DTSTAMP:20260424T131126
CREATED:20260324T034124Z
LAST-MODIFIED:20260324T034124Z
UID:10000321-1792321200-1792335600@wheelsinmotion.org
SUMMARY:Get Ready for Disability Dirt Day at Holly Oaks ORV Park!
DESCRIPTION:Disability Dirt Day – Off-Road Adventure for All AbilitiesSunday\, October 18th\, 202611:00 AM – 3:00 PMHolly Oaks ORV Park – 14551 Shields Road\, Holly\, MI 48442 \nReady to kick up some dust?Come experience the thrill of off-roading with the help of our amazing volunteer drivers\, who’ll take you on a wild ride through the rugged terrain of Holly Oaks ORV Park. Whether it’s in a Jeep\, side-by-side\, or another off-road beast\, you’re in for an unforgettable experience. \nEach rider may bring one guest (ages 10+)\, and waivers are required. Once you register\, you’ll receive a confirmation email the week before with final details. \n For individuals with disabilities                                                                                                                                                   Free event – space is limited No guarantee on vehicle type—we like to keep it wild! \nQuestions? Text or call 248-221-8040Register Here!  https://bit.ly/4rSPpY9\nThis event is made possible thanks to our awesome partnership with Oakland County Parks\,  Disability Network of Eastern Michigan\, Detroit 4Fest and Rehab Without Walls! \nGet ready for rides\, smiles\, and memories that stick. See you on the trails!
URL:https://wheelsinmotion.org/event/get-ready-for-disability-dirt-day-at-holly-oaks-orv-park-7/
LOCATION:Holly Oaks ORV Park\, 14551 Shields Road\, Holly\, MI\, 48442\, United States
CATEGORIES:Disability Dirt Days,Jeep,Offroad ATV/SXS,Side by Side
ATTACH;FMTTYPE=image/jpeg:https://wheelsinmotion.org/wp-content/uploads/2026/01/Untitled-114382-scaled.jpg
ORGANIZER;CN="Oakland County Parks":MAILTO:doreys@oakgov.com
END:VEVENT
END:VCALENDAR