BEGIN:VCALENDAR
VERSION:2.0
PRODID:-//Wheels In Motion - ECPv6.15.20//NONSGML v1.0//EN
CALSCALE:GREGORIAN
METHOD:PUBLISH
X-ORIGINAL-URL:https://wheelsinmotion.org
X-WR-CALDESC:Events for Wheels In Motion
REFRESH-INTERVAL;VALUE=DURATION:PT1H
X-Robots-Tag:noindex
X-PUBLISHED-TTL:PT1H
BEGIN:VTIMEZONE
TZID:UTC
BEGIN:STANDARD
TZOFFSETFROM:+0000
TZOFFSETTO:+0000
TZNAME:UTC
DTSTART:20230101T000000
END:STANDARD
END:VTIMEZONE
BEGIN:VTIMEZONE
TZID:America/Halifax
BEGIN:DAYLIGHT
TZOFFSETFROM:-0400
TZOFFSETTO:-0300
TZNAME:ADT
DTSTART:20240310T060000
END:DAYLIGHT
BEGIN:STANDARD
TZOFFSETFROM:-0300
TZOFFSETTO:-0400
TZNAME:AST
DTSTART:20241103T050000
END:STANDARD
BEGIN:DAYLIGHT
TZOFFSETFROM:-0400
TZOFFSETTO:-0300
TZNAME:ADT
DTSTART:20250309T060000
END:DAYLIGHT
BEGIN:STANDARD
TZOFFSETFROM:-0300
TZOFFSETTO:-0400
TZNAME:AST
DTSTART:20251102T050000
END:STANDARD
BEGIN:DAYLIGHT
TZOFFSETFROM:-0400
TZOFFSETTO:-0300
TZNAME:ADT
DTSTART:20260308T060000
END:DAYLIGHT
BEGIN:STANDARD
TZOFFSETFROM:-0300
TZOFFSETTO:-0400
TZNAME:AST
DTSTART:20261101T050000
END:STANDARD
END:VTIMEZONE
BEGIN:VEVENT
DTSTART;TZID=UTC:20260327T160000
DTEND;TZID=UTC:20260327T190000
DTSTAMP:20260424T132435
CREATED:20260118T210121Z
LAST-MODIFIED:20260310T031901Z
UID:10000305-1774627200-1774638000@wheelsinmotion.org
SUMMARY:Adaptive Recreation Experience !
DESCRIPTION:Adaptive Recreation Experience –\nAdaptive Recreation Experience\nFriday\, March 27th\, 2026 | 4–7 PMUWM Sports Complex – 867 South Blvd E\, Pontiac\, MI 48341 \nJoin us for a Free\, all-abilities community event designed to showcase the fun\, freedom\, and possibilities of adaptive recreation! Whether you’re exploring something new or coming back to a favorite activity\, this afternoon offers hands-on opportunities like archery\, curling\, golf\, wheelchair basketball\, and more. \nConnect with local and state organizations\, meet others in the disability community\, and learn about year-round programs that support active\, engaged living. \nFood will be available for purchase.All ages and abilities are welcome. \n      \nQuestions? Email OCPRecreation@oakgov.com or text/call 248-221-8040This is a Free event! Pre-Register Here!                                                                      \nPartners: Oakland County Parks\, Wheels in Motion\, DNEM\, Reimagine Life Foundation\, Reimagine RecreationSponsored by: Strive \nAdaptive-Rec-Experience-Final-2
URL:https://wheelsinmotion.org/event/adaptive-recreation-experience/
LOCATION:UWM Sports Complex\, 867 S Blvd E\, Pontiac\, MI\, 48341
CATEGORIES:Adaptive Archery,Adaptive biking,Adaptive Mountain Biking,Barrier Free Boating,Bowfishing,Community,Disability Dirt Days,Disability Dune Days,DiversAbility Day,Dune Days!,Expo!,Handcycling,Off-Road Hand cycling,Offroad ATV/SXS,Veterans
ATTACH;FMTTYPE=application/pdf:https://wheelsinmotion.org/wp-content/uploads/2026/01/Adaptive-Rec-Experience-Final-2-1.pdf
ORGANIZER;CN="Wheels in Motion":MAILTO:info@wheelsinmotionnonprofit.com
END:VEVENT
BEGIN:VEVENT
DTSTART;TZID=America/Halifax:20251019T110000
DTEND;TZID=America/Halifax:20251019T153000
DTSTAMP:20260424T132435
CREATED:20250321T191813Z
LAST-MODIFIED:20250321T192316Z
UID:10000232-1760871600-1760887800@wheelsinmotion.org
SUMMARY:October Disability Dirt Day!
DESCRIPTION:Disability Dirt Day – Off-Road Adventure for All Abilities📅 Sunday\, October 19\, 2025🕚 11:00 AM – 3:30 PM📍 Holly Oaks ORV Park – 14551 Shields Road\, Holly\, MI 48442 \nEnd the season strong with our final Disability Dirt Day of the year! Take in the crisp fall air\, the crunch of leaves\, and the roar of off-road engines as you ride shotgun on a trail adventure you won’t forget. \nEach participant can bring one guest (ages 10+)\, and waivers are required. Ride types vary—no promises\, just awesome. \n📧 Ride details will be sent out via email the week before📲 Text/call 248-221-8040 with questions🔗 Sign up here: https://bit.ly/4jLVhiB \nThanks to our incredible partners at Oakland County Parks\, Rehab Without Walls\, Disability Network of Eastern Michigan\, Detroit 4Fest\, Wheelchairs in Motion for making these days happen. Let’s wrap up the season with a little dirt\, a lot of smiles\, and a whole bunch of horsepower.
URL:https://wheelsinmotion.org/event/get-ready-for-disability-dirt-day-at-holly-oaks-orv-park-4/
LOCATION:Holly Oaks ORV Park\, 14551 Shields Road\, Holly\, MI\, 48442\, United States
CATEGORIES:Disability Dirt Days,Offroad ATV/SXS
ATTACH;FMTTYPE=application/pdf:https://wheelsinmotion.org/wp-content/uploads/2025/01/Dirt-Days-flyer-2025-3.pdf
ORGANIZER;CN="Oakland County Parks":MAILTO:doreys@oakgov.com
END:VEVENT
BEGIN:VEVENT
DTSTART;TZID=America/Halifax:20250921T110000
DTEND;TZID=America/Halifax:20250921T153000
DTSTAMP:20260424T132435
CREATED:20240517T142221Z
LAST-MODIFIED:20250321T191712Z
UID:10000001-1758452400-1758468600@wheelsinmotion.org
SUMMARY:Get Ready for Disability Dirt Day at Holly Oaks ORV Park!
DESCRIPTION:Disability Dirt Day – Off-Road Adventure for All Abilities📅 Sunday\, September 21\, 2025🕚 11:00 AM – 3:30 PM📍 Holly Oaks ORV Park – 14551 Shields Road\, Holly\, MI 48442 \nFall colors and fast rides? Yes\, please. Come out for another round of epic off-roading at Holly Oaks! Our volunteer drivers are ready to give you and a guest the ride of a lifetime through trails and terrain that’ll make you forget you’re still in Michigan. \n👥 One rider + one guest (ages 10+)✍️ Waivers required📧 Confirmation email will be sent the week before \n📲 Questions? Text or call 248-221-8040🔗 Register here: https://bit.ly/4jLVhiB \nProudly presented by Oakland County Parks and Wheelchairs in Motion—because everyone deserves to feel the freedom of the trail.
URL:https://wheelsinmotion.org/event/disability-dirt-days/
LOCATION:Holly Oaks ORV Park\, 14551 Shields Road\, Holly\, MI\, 48442\, United States
CATEGORIES:Disability Dirt Days
ATTACH;FMTTYPE=application/pdf:https://wheelsinmotion.org/wp-content/uploads/2024/05/Dirt-Days-flyer-2025.pdf
ORGANIZER;CN="Oakland County Parks":MAILTO:doreys@oakgov.com
END:VEVENT
BEGIN:VEVENT
DTSTART;TZID=America/Halifax:20250601T110000
DTEND;TZID=America/Halifax:20250601T160000
DTSTAMP:20260424T132435
CREATED:20250109T184021Z
LAST-MODIFIED:20250321T155205Z
UID:10000230-1748775600-1748793600@wheelsinmotion.org
SUMMARY:Get Ready for Disability Dirt Day at Holly Oaks ORV Park!
DESCRIPTION:Disability Dirt Day – Off-Road Adventure for All Abilities📅 Sunday\, June 1\, 2025🕚 11:00 AM – 3:30 PM📍 Holly Oaks ORV Park – 14551 Shields Road\, Holly\, MI 48442 \nReady to kick up some dust?Come experience the thrill of off-roading with the help of our amazing volunteer drivers\, who’ll take you on a wild ride through the rugged terrain of Holly Oaks ORV Park. Whether it’s in a Jeep\, side-by-side\, or another off-road beast\, you’re in for an unforgettable experience. \nEach rider may bring one guest (ages 10+)\, and waivers are required. Once you register\, you’ll receive a confirmation email the week before with final details. \n💥 For individuals with disabilities💥 Free event – space is limited💥 No guarantee on vehicle type—we like to keep it wild! \n📲 Questions? Text or call 248-221-8040🔗 Register here: https://bit.ly/4jLVhiB \nThis event is made possible thanks to our awesome partnership with Oakland County Parks\, Wheelchairs in Motion\, Disability Network of Eastern Michigan\, Detroit 4Fest and Rehab Without Walls! \nGet ready for rides\, smiles\, and memories that stick. See you on the trails!
URL:https://wheelsinmotion.org/event/get-ready-for-disability-dirt-day-at-holly-oaks-orv-park/
LOCATION:Holly Oaks ORV Park\, 14551 Shields Road\, Holly\, MI\, 48442\, United States
CATEGORIES:Disability Dirt Days,Offroad ATV/SXS
ATTACH;FMTTYPE=application/pdf:https://wheelsinmotion.org/wp-content/uploads/2025/01/Dirt-Days-flyer-2025-2.pdf
ORGANIZER;CN="Oakland County Parks":MAILTO:doreys@oakgov.com
END:VEVENT
BEGIN:VEVENT
DTSTART;TZID=UTC:20250517T110000
DTEND;TZID=UTC:20250517T200000
DTSTAMP:20260424T132435
CREATED:20250321T144604Z
LAST-MODIFIED:20250321T144604Z
UID:10000245-1747479600-1747512000@wheelsinmotion.org
SUMMARY:Thank You for Your Service: Veterans Ride Free on Armed Forces Day!
DESCRIPTION:Thank You for Your Service: Veterans Ride Free on Armed Forces Day📅 Saturday\, May 17\, 2025🕚 11:00 AM – 8:00 PM📍 Holly Oaks Off-Road Vehicle (ORV) Park – Holly\, Michigan \nWe’re proud to honor those who’ve served with a day dedicated to our veterans—on Armed Forces Day\, no less. \nIf you’re a veteran\, come out and enjoy free admission to the park. Bring your side-by-side\, Jeep\, or off-road vehicle and ride all day long. Whether you’re looking to tear it up on the trails or take a laid-back loop through the park\, this day is for you. \nNo registration required—just show up with your military ID or proof of service\, and we’ll take care of the rest. \nIt’s a simple way to say thank you—for your courage\, your service\, and your sacrifice. \n💙 Presented by Wheels in Motion in partnership with Oakland County Parks.
URL:https://wheelsinmotion.org/event/thank-you-for-your-service-veterans-ride-free-on-armed-forces-day/
LOCATION:Holly Oaks ORV Park\, 14551 Shields Road\, Holly\, MI\, 48442\, United States
CATEGORIES:Detroit 4Fest,Disability Dirt Days,Offroad ATV/SXS,Veterans,Veterans Dirt Day
ATTACH;FMTTYPE=application/pdf:https://wheelsinmotion.org/wp-content/uploads/2025/03/Thank-you-for-your-Service-Veterans-Ride-Free-Armed-Forces-Day.pdf
ORGANIZER;CN="Wheels in Motion":MAILTO:info@wheelsinmotionnonprofit.com
END:VEVENT
BEGIN:VEVENT
DTSTART;TZID=UTC:20250516T110000
DTEND;TZID=UTC:20250516T153000
DTSTAMP:20260424T132435
CREATED:20241105T182406Z
LAST-MODIFIED:20250321T152209Z
UID:10000220-1747393200-1747409400@wheelsinmotion.org
SUMMARY:Veterans Dirt Day! Off-Road Rides for Our Heroes.
DESCRIPTION:Veteran Dirt Day – Off-Road Rides for Our Heroes📅 Friday\, May 16\, 2025🕚 11:00 AM – 3:30 PM📍 Holly Oaks ORV Park – 14551 Shields Road\, Holly\, MI 48442 \nCome celebrate Armed Forces Day a little early with us at Veteran Dirt Day—a special event just for veterans. \nHop in with one of our experienced off-road volunteers and enjoy a thrilling ride through Holly Oaks ORV Park. Each veteran may bring one guest (ages 10+)\, and rides are about an hour long. \n💥 Registration required – you’ll get your ride time slot before the event.💥 Waivers required for all participants.💥 Veteran-focused vendors will be on-site—explore\, connect\, and enjoy the day. \n📲 Questions? Text or call 248-221-8040🔗 Register here: https://bit.ly/4jcABQv \n💙 Brought to you by Oakland County Parks\, Detroit 4Fest\, Holly Oaks\, ORV Park\, and Wheels in Motion.
URL:https://wheelsinmotion.org/event/veterans-expo-dirt-day/
LOCATION:Holly Oaks ORV Park\, 14551 Shields Road\, Holly\, MI\, 48442\, United States
CATEGORIES:Detroit 4Fest,Disability Dirt Days,Offroad ATV/SXS,Veterans,Veterans Dirt Day
ATTACH;FMTTYPE=application/pdf:https://wheelsinmotion.org/wp-content/uploads/2024/11/Veteran-Dirt-Day-final-2.pdf
ORGANIZER;CN="Wheels in Motion":MAILTO:info@wheelsinmotionnonprofit.com
END:VEVENT
BEGIN:VEVENT
DTSTART;TZID=UTC:20250328T150000
DTEND;TZID=UTC:20250328T190000
DTSTAMP:20260424T132435
CREATED:20241105T181613Z
LAST-MODIFIED:20250324T222326Z
UID:10000219-1743174000-1743188400@wheelsinmotion.org
SUMMARY:Adaptive Recreation Experience !
DESCRIPTION:Adaptive Recreation Experience –\nAdaptive Recreation Experience\nFriday\, March 28\, 2025 | 4–7 PMUWM Sports Complex – 867 South Blvd E\, Pontiac\, MI 48341 \nJoin us for a free\, all-abilities community event designed to showcase the fun\, freedom\, and possibilities of adaptive recreation! Whether you’re exploring something new or returning to a favorite activity\, this evening offers hands-on opportunities like archery\, curling\, golf\, wheelchair basketball\, and more. \nConnect with local and state organizations\, meet others in the disability community\, and learn about year-round programs that support active\, engaged living. \nFood will be available for purchase.All ages and abilities are welcome. \n📲 Questions? Email OCPRecreation@oakgov.com or text/call 248-221-8040📝 Pre-registration encouraged – scan the QR code on the flyer                                                                                 Or Register here – bit.ly/3F3a2O9 ! \nPartners: Oakland County Parks\, Wheels in Motion\, DNEM\, Reimagine Life Foundation\, Reimagine RecreationSponsored by: Strive \nAdaptive Rec Experience – Final 2
URL:https://wheelsinmotion.org/event/adaptive-recreation-experience-expo/
LOCATION:UWM Sports Complex\, 867 S Blvd E\, Pontiac\, MI\, 48341
CATEGORIES:Adaptive Archery,Adaptive biking,Adaptive Mountain Biking,Barrier Free Boating,Bowfishing,Disability Dirt Days,Disability Dune Days,DiversAbility Day,Dune Days!,Expo!,Handcycling,Off-Road Hand cycling,Offroad ATV/SXS,Veterans
ATTACH;FMTTYPE=application/pdf:https://wheelsinmotion.org/wp-content/uploads/2024/11/Adaptive-Rec-Experience-Final-2.pdf
ORGANIZER;CN="Oakland County Parks":MAILTO:doreys@oakgov.com
END:VEVENT
BEGIN:VEVENT
DTSTART;TZID=UTC:20240703T130000
DTEND;TZID=UTC:20240703T190000
DTSTAMP:20260424T132435
CREATED:20240702T162231Z
LAST-MODIFIED:20240703T030432Z
UID:10000020-1720011600-1720033200@wheelsinmotion.org
SUMMARY:Disability Dune Days!
DESCRIPTION:The 1st of its kind!\nSeptember 11th\, 2024\nThe Inaugural Disability Dune Day at Silver Lake Sand Dunes State Park!\nWheels in Motion – in Partnership with Oakland County Parks and the Michigan DNR offers a day of riding the Dunes to people with Disabilities!\n 
URL:https://wheelsinmotion.org/event/disability-dune-days/
LOCATION:Silver Lake Sand Dunes\, 1765 N Lakeview Dr\, Mears\, MI\, 49436
CATEGORIES:Disability Dirt Days,Disability Dune Days,Offroad ATV/SXS
ATTACH;FMTTYPE=image/jpeg:https://wheelsinmotion.org/wp-content/uploads/2024/07/IMG_8692-scaled-e1719975856794.jpeg
ORGANIZER;CN="Wheels in Motion":MAILTO:info@wheelsinmotionnonprofit.com
END:VEVENT
END:VCALENDAR