BEGIN:VCALENDAR
VERSION:2.0
PRODID:-//Wheels In Motion - ECPv6.15.20//NONSGML v1.0//EN
CALSCALE:GREGORIAN
METHOD:PUBLISH
X-ORIGINAL-URL:https://wheelsinmotion.org
X-WR-CALDESC:Events for Wheels In Motion
REFRESH-INTERVAL;VALUE=DURATION:PT1H
X-Robots-Tag:noindex
X-PUBLISHED-TTL:PT1H
BEGIN:VTIMEZONE
TZID:UTC
BEGIN:STANDARD
TZOFFSETFROM:+0000
TZOFFSETTO:+0000
TZNAME:UTC
DTSTART:20230101T000000
END:STANDARD
END:VTIMEZONE
BEGIN:VEVENT
DTSTART;TZID=UTC:20260327T160000
DTEND;TZID=UTC:20260327T190000
DTSTAMP:20260424T190855
CREATED:20260118T210121Z
LAST-MODIFIED:20260310T031901Z
UID:10000305-1774627200-1774638000@wheelsinmotion.org
SUMMARY:Adaptive Recreation Experience !
DESCRIPTION:Adaptive Recreation Experience –\nAdaptive Recreation Experience\nFriday\, March 27th\, 2026 | 4–7 PMUWM Sports Complex – 867 South Blvd E\, Pontiac\, MI 48341 \nJoin us for a Free\, all-abilities community event designed to showcase the fun\, freedom\, and possibilities of adaptive recreation! Whether you’re exploring something new or coming back to a favorite activity\, this afternoon offers hands-on opportunities like archery\, curling\, golf\, wheelchair basketball\, and more. \nConnect with local and state organizations\, meet others in the disability community\, and learn about year-round programs that support active\, engaged living. \nFood will be available for purchase.All ages and abilities are welcome. \n      \nQuestions? Email OCPRecreation@oakgov.com or text/call 248-221-8040This is a Free event! Pre-Register Here!                                                                      \nPartners: Oakland County Parks\, Wheels in Motion\, DNEM\, Reimagine Life Foundation\, Reimagine RecreationSponsored by: Strive \nAdaptive-Rec-Experience-Final-2
URL:https://wheelsinmotion.org/event/adaptive-recreation-experience/
LOCATION:UWM Sports Complex\, 867 S Blvd E\, Pontiac\, MI\, 48341
CATEGORIES:Adaptive Archery,Adaptive biking,Adaptive Mountain Biking,Barrier Free Boating,Bowfishing,Community,Disability Dirt Days,Disability Dune Days,DiversAbility Day,Dune Days!,Expo!,Handcycling,Off-Road Hand cycling,Offroad ATV/SXS,Veterans
ATTACH;FMTTYPE=application/pdf:https://wheelsinmotion.org/wp-content/uploads/2026/01/Adaptive-Rec-Experience-Final-2-1.pdf
ORGANIZER;CN="Wheels in Motion":MAILTO:info@wheelsinmotionnonprofit.com
END:VEVENT
BEGIN:VEVENT
DTSTART;TZID=UTC:20250814T110000
DTEND;TZID=UTC:20250814T140000
DTSTAMP:20260424T190855
CREATED:20240607T214955Z
LAST-MODIFIED:20250321T184256Z
UID:10000012-1755169200-1755180000@wheelsinmotion.org
SUMMARY:DiversAbility Day at Maybury State Park!
DESCRIPTION:DiversAbility Day at Maybury State Park 🏹🚲🐴\n📅 Thursday\, August 14\, 2025🕚 11:00 AM – 2:00 PM📍 Maybury State Park – 49601 Eight Mile W.\, Northville\, MI💰 Park Entry: Recreation Passport (tab on license plate)\, Michigan Activity Pass\, or $11/vehicle \nOutdoor fun\, fresh air\, and adaptive adventures await! This DiversAbility Day is packed with activities for all abilities\, from adaptive cycling to archery—plus\, get up close with farm animals! \n🏹 Test your aim in adaptive archery🚲 Go for a ride on an adaptive cycle🐴 Meet farm animals and enjoy the outdoors🎲 Play yard games with friends & family🌭 Enjoy a hot dog lunch \nThis is all about access\, inclusion\, and fun—so grab a friend\, bring your adventurous spirit\, and come play with us! \n📲 Questions or accommodations? Call or text 248-221-8040🔗 Register here: https://tinyurl.com/DiversAbilityMaybury \nHosted by Wheels in Motion\, Disability Network Eastern Michigan (DNEM)\, and Michigan DNR.
URL:https://wheelsinmotion.org/event/diversability-day-at-maybury-state-park/
LOCATION:Maybury State Park\, 49601 Eight Mile Road\, Northville\, MI\, 48167
CATEGORIES:Adaptive Archery,Adaptive biking,DiversAbility Day,Handcycling
ATTACH;FMTTYPE=image/webp:https://wheelsinmotion.org/wp-content/uploads/2024/06/DiversAbility-Day-705x435-1.webp
ORGANIZER;CN="Disability Network Eastern Michigan%2C":MAILTO:info@dnemichigan.org
END:VEVENT
BEGIN:VEVENT
DTSTART;TZID=UTC:20250806T110000
DTEND;TZID=UTC:20250806T140000
DTSTAMP:20260424T190855
CREATED:20250321T184106Z
LAST-MODIFIED:20260324T032915Z
UID:10000246-1754478000-1754488800@wheelsinmotion.org
SUMMARY:Diversability Day & Boating at Lake St. Clair
DESCRIPTION:DiversAbility Day & Barrier-Free Boating 🌊🎯🎡\n📅 Wednesday\, August 6\, 2025🕚 11:00 AM – 2:00 PM📍 Lake St. Clair Metropark – 31300 Metro Parkway\, Harrison Twp.\, MI💰 Park Entry: Metroparks sticker\, Michigan Activity Pass\, or $10/vehicle \nGet ready for a day of adaptive adventure on the water and beyond! Whether you’re cruising the lake on a pontoon\, testing your skills in adaptive archery\, or exploring new ways to ride with adaptive cycles\, there’s something for everyone. \n🏹 Take aim in adaptive archery🚲 Ride out on an adaptive cycle🎨 Express yourself with face painting🌊 Feel the freedom on a pontoon boat ride🏖️ Enjoy beach access & lawn games🌭 Refuel with a hot dog lunch \nAll are welcome—come out\, explore\, and connect with the adaptive recreation community! \n📲 Questions or accommodations? Email REC-IT@DNEMichigan.org or call 586-268-4160\n \nPresented by Wheels in Motion\, Disability Network Eastern Michigan (DNEM)\, and Metroparks.
URL:https://wheelsinmotion.org/event/diversability-day-boating-at-lake-st-clair/
LOCATION:Lake St Clair Metropark\, 31300 Metro Pkwy\, Harrison Twp\, MI\, 48045
CATEGORIES:Adaptive biking,Barrier Free Boating,DiversAbility Day,Diversability Days,Handcycling
ATTACH;FMTTYPE=image/webp:https://wheelsinmotion.org/wp-content/uploads/2024/06/DiversAbility-Day-705x435-1.webp
ORGANIZER;CN="Wheels in Motion":MAILTO:info@wheelsinmotionnonprofit.com
END:VEVENT
BEGIN:VEVENT
DTSTART;TZID=UTC:20250520T160000
DTEND;TZID=UTC:20250520T190000
DTSTAMP:20260424T190855
CREATED:20241105T180558Z
LAST-MODIFIED:20250422T195549Z
UID:10000218-1747756800-1747767600@wheelsinmotion.org
SUMMARY:Bike Clinic Kick-Off!
DESCRIPTION:Adaptive Bike Clinic Kickoff – Come Roll with Us!Tuesday\, May 20\, 20254:00 PM – 7:00 PMIndependence Oaks County Park – Clarkston\, MI \nJoin us for an evening of freedom on wheels at our Adaptive Bike Clinic Kickoff! \nTry out a variety of adaptive bikes and hand cycles in a welcoming\, no-pressure environment. Whether you’re brand new to adaptive cycling or a seasoned rider\, this is a chance to explore\, connect\, and ride with the community. \n💙 All abilities welcome. All ages encouraged.💙 No registration needed—just show up ready to roll. \nBrought to you by the Disability Network of Eastern Michigan\, Oakland County Parks\, and Rehab and Mobility Systems in partnership with Wheels in Motion. \nLet’s ride together and celebrate the joy of movement.We’ll see you there!
URL:https://wheelsinmotion.org/event/bike-clinic-kick-off/
LOCATION:Independence Oaks\, 9501 Sashabaw Rd\, Clarkston\, 48348\, United States
CATEGORIES:Adaptive biking,Handcycling,Off-Road Hand cycling
ATTACH;FMTTYPE=image/jpeg:https://wheelsinmotion.org/wp-content/uploads/2024/05/IMG_8200-3.jpg
ORGANIZER;CN="Disability Network Eastern Michigan%2C":MAILTO:info@dnemichigan.org
END:VEVENT
BEGIN:VEVENT
DTSTART;TZID=UTC:20250328T150000
DTEND;TZID=UTC:20250328T190000
DTSTAMP:20260424T190855
CREATED:20241105T181613Z
LAST-MODIFIED:20250324T222326Z
UID:10000219-1743174000-1743188400@wheelsinmotion.org
SUMMARY:Adaptive Recreation Experience !
DESCRIPTION:Adaptive Recreation Experience –\nAdaptive Recreation Experience\nFriday\, March 28\, 2025 | 4–7 PMUWM Sports Complex – 867 South Blvd E\, Pontiac\, MI 48341 \nJoin us for a free\, all-abilities community event designed to showcase the fun\, freedom\, and possibilities of adaptive recreation! Whether you’re exploring something new or returning to a favorite activity\, this evening offers hands-on opportunities like archery\, curling\, golf\, wheelchair basketball\, and more. \nConnect with local and state organizations\, meet others in the disability community\, and learn about year-round programs that support active\, engaged living. \nFood will be available for purchase.All ages and abilities are welcome. \n📲 Questions? Email OCPRecreation@oakgov.com or text/call 248-221-8040📝 Pre-registration encouraged – scan the QR code on the flyer                                                                                 Or Register here – bit.ly/3F3a2O9 ! \nPartners: Oakland County Parks\, Wheels in Motion\, DNEM\, Reimagine Life Foundation\, Reimagine RecreationSponsored by: Strive \nAdaptive Rec Experience – Final 2
URL:https://wheelsinmotion.org/event/adaptive-recreation-experience-expo/
LOCATION:UWM Sports Complex\, 867 S Blvd E\, Pontiac\, MI\, 48341
CATEGORIES:Adaptive Archery,Adaptive biking,Adaptive Mountain Biking,Barrier Free Boating,Bowfishing,Disability Dirt Days,Disability Dune Days,DiversAbility Day,Dune Days!,Expo!,Handcycling,Off-Road Hand cycling,Offroad ATV/SXS,Veterans
ATTACH;FMTTYPE=application/pdf:https://wheelsinmotion.org/wp-content/uploads/2024/11/Adaptive-Rec-Experience-Final-2.pdf
ORGANIZER;CN="Oakland County Parks":MAILTO:doreys@oakgov.com
END:VEVENT
BEGIN:VEVENT
DTSTART;TZID=UTC:20240909T160000
DTEND;TZID=UTC:20240909T190000
DTSTAMP:20260424T190855
CREATED:20240614T014720Z
LAST-MODIFIED:20240814T153552Z
UID:10000019-1725897600-1725908400@wheelsinmotion.org
SUMMARY:Handcycle Ride at Hudson Mills with UMaise and Wheels in Motion
DESCRIPTION:Come and join the UMaise crew for an awesome handcycle ride through Hudson Mills MetroPark! \nWe did this ride last year and couldnt believe what a Beautiful park  we found in Hudson Mills. \nCome out and join us! Bring your own Adaptive Handcycle or bike or try one of ours! \n4 to 7 pm! \nContact PMR-UMAISETR@umich.edu for more information or to register. \nOr: \n \n  \n \nSee You There!
URL:https://wheelsinmotion.org/event/umaise-handcycling/
LOCATION:Hudson Mills Metropark\, 8801 N. Territorial Road\, Dexter\, MI\, 48130\, United States
CATEGORIES:Adaptive biking,Handcycling
ATTACH;FMTTYPE=image/webp:https://wheelsinmotion.org/wp-content/uploads/2024/05/IMG_7830.webp
ORGANIZER;CN="UMaise":MAILTO:PMR-UMAISETR@umich.edu
END:VEVENT
BEGIN:VEVENT
DTSTART;TZID=UTC:20240829T120000
DTEND;TZID=UTC:20240829T160000
DTSTAMP:20260424T190855
CREATED:20240717T182508Z
LAST-MODIFIED:20240827T005404Z
UID:10000204-1724932800-1724947200@wheelsinmotion.org
SUMMARY:United Spinal Association Summer Fun Get Together
DESCRIPTION:Join us for the United Spinal Association’s Summer Fun Get Together on Thursday\,  \nAugust 29th from 12 to 4 PM at Independence Oaks County Park! \n       \nSponsored by Rehab and Mobility Systems\, this fun event promises a day filled with fun\, food\, and festivities. Enjoy Adaptive Fishing\, Archery\, Handcycling\, Offroad Chairs and Boating!  There will be music\, and games in the company of friends and community members. Come for the activities and stay for the camaraderie and delicious food. Don’t miss out on this fantastic opportunity to connect and celebrate in one of our beautiful County Parks!
URL:https://wheelsinmotion.org/event/united-spinal-association-summer-fun-get-together/
LOCATION:Independence Oaks\, 9501 Sashabaw Rd\, Clarkston\, 48348\, United States
CATEGORIES:Adaptive Archery,Adaptive biking,Barrier Free Boating,Handcycling,United Spinal Picnic
ATTACH;FMTTYPE=image/jpeg:https://wheelsinmotion.org/wp-content/uploads/2024/07/United-Spinal-Flyer-August-Event.jpeg
END:VEVENT
END:VCALENDAR